BEGIN:VCALENDAR
VERSION:2.0
PRODID:-//Greater Fort Wayne Campus Ministry - ECPv6.0.9//NONSGML v1.0//EN
CALSCALE:GREGORIAN
METHOD:PUBLISH
X-WR-CALNAME:Greater Fort Wayne Campus Ministry
X-ORIGINAL-URL:https://gfwcampusministry.com
X-WR-CALDESC:Events for Greater Fort Wayne Campus Ministry
REFRESH-INTERVAL;VALUE=DURATION:PT1H
X-Robots-Tag:noindex
X-PUBLISHED-TTL:PT1H
BEGIN:VTIMEZONE
TZID:UTC
BEGIN:STANDARD
TZOFFSETFROM:+0000
TZOFFSETTO:+0000
TZNAME:UTC
DTSTART:20220101T000000
END:STANDARD
END:VTIMEZONE
BEGIN:VEVENT
DTSTART;TZID=UTC:20220505T190000
DTEND;TZID=UTC:20220505T220000
DTSTAMP:20260421T101229
CREATED:20220502T193918Z
LAST-MODIFIED:20220502T193918Z
UID:624-1651777200-1651788000@gfwcampusministry.com
SUMMARY:End-of-the-Year Cookout
DESCRIPTION:You did it! You made it through another semester and we are celebrating! Cookout at Chase’s house\, 7pm-10pm on Thursday night. We’ll have some food\, games\, and a campfire. Bring a lawn chair if you have one. If rain\, we will move the party inside.
URL:https://gfwcampusministry.com/event/end-of-the-year-cookout/
LOCATION:Chase’s House\, 4215 Ara Drive\, Woodburn\, IN\, 46797\, United States
CATEGORIES:CML8R
END:VEVENT
END:VCALENDAR