BEGIN:VCALENDAR
VERSION:2.0
PRODID:-//Greater Fort Wayne Campus Ministry - ECPv6.0.9//NONSGML v1.0//EN
CALSCALE:GREGORIAN
METHOD:PUBLISH
X-ORIGINAL-URL:https://gfwcampusministry.com
X-WR-CALDESC:Events for Greater Fort Wayne Campus Ministry
REFRESH-INTERVAL;VALUE=DURATION:PT1H
X-Robots-Tag:noindex
X-PUBLISHED-TTL:PT1H
BEGIN:VTIMEZONE
TZID:UTC
BEGIN:STANDARD
TZOFFSETFROM:+0000
TZOFFSETTO:+0000
TZNAME:UTC
DTSTART:20240101T000000
END:STANDARD
END:VTIMEZONE
BEGIN:VEVENT
DTSTART;TZID=UTC:20241002T114500
DTEND;TZID=UTC:20241002T131500
DTSTAMP:20260421T084031
CREATED:20240823T161000Z
LAST-MODIFIED:20240823T161000Z
UID:1148-1727869500-1727874900@gfwcampusministry.com
SUMMARY:Women's Small Group - Gospel of Luke
DESCRIPTION:
URL:https://gfwcampusministry.com/event/womens-small-group-gospel-of-luke/2024-10-02/
LOCATION:PFW Main Campus- WU G-08
CATEGORIES:Small Group
END:VEVENT
BEGIN:VEVENT
DTSTART;TZID=UTC:20240925T180000
DTEND;TZID=UTC:20240925T193000
DTSTAMP:20260421T084031
CREATED:20240823T130633Z
LAST-MODIFIED:20240823T150826Z
UID:1064-1727287200-1727292600@gfwcampusministry.com
SUMMARY:Conversations: Pajama Party
DESCRIPTION:Our weekly\, discussion-based large group meeting. We’ll have snacks and great conversations!
URL:https://gfwcampusministry.com/event/conversations-4-2024-09-25/
LOCATION:PFW LA 35A\, 2101E. Coliseum Blvd.\, Fort Wayne\, IN\, 46805\, United States
CATEGORIES:Conversations
END:VEVENT
BEGIN:VEVENT
DTSTART;TZID=UTC:20240925T114500
DTEND;TZID=UTC:20240925T131500
DTSTAMP:20260421T084031
CREATED:20240823T161000Z
LAST-MODIFIED:20240823T161000Z
UID:1147-1727264700-1727270100@gfwcampusministry.com
SUMMARY:Women's Small Group - Gospel of Luke
DESCRIPTION:
URL:https://gfwcampusministry.com/event/womens-small-group-gospel-of-luke/
LOCATION:PFW Main Campus- WU G-08
CATEGORIES:Small Group
END:VEVENT
BEGIN:VEVENT
DTSTART;TZID=UTC:20240911T180000
DTEND;TZID=UTC:20240911T193000
DTSTAMP:20260421T084031
CREATED:20240823T130633Z
LAST-MODIFIED:20240823T150737Z
UID:1062-1726077600-1726083000@gfwcampusministry.com
SUMMARY:Conversations: Who is God?
DESCRIPTION:Our weekly\, discussion-based large group meeting. We’ll have snacks and great conversations!
URL:https://gfwcampusministry.com/event/conversations-4-2024-09-11/
LOCATION:International Ballroom- Walb Student Union
CATEGORIES:Conversations
END:VEVENT
END:VCALENDAR