BEGIN:VCALENDAR
VERSION:2.0
PRODID:-//Greater Fort Wayne Campus Ministry - ECPv6.0.9//NONSGML v1.0//EN
CALSCALE:GREGORIAN
METHOD:PUBLISH
X-WR-CALNAME:Greater Fort Wayne Campus Ministry
X-ORIGINAL-URL:https://gfwcampusministry.com
X-WR-CALDESC:Events for Greater Fort Wayne Campus Ministry
REFRESH-INTERVAL;VALUE=DURATION:PT1H
X-Robots-Tag:noindex
X-PUBLISHED-TTL:PT1H
BEGIN:VTIMEZONE
TZID:UTC
BEGIN:STANDARD
TZOFFSETFROM:+0000
TZOFFSETTO:+0000
TZNAME:UTC
DTSTART:20240101T000000
END:STANDARD
END:VTIMEZONE
BEGIN:VEVENT
DTSTART;TZID=UTC:20241209T180000
DTEND;TZID=UTC:20241209T210000
DTSTAMP:20260419T193712
CREATED:20240823T163542Z
LAST-MODIFIED:20240823T163542Z
UID:1200-1733767200-1733778000@gfwcampusministry.com
SUMMARY:Co-Ed Small Group
DESCRIPTION:
URL:https://gfwcampusministry.com/event/co-ed-small-group-11/
LOCATION:PFW Main Campus – WU G-21\, 2101 E. Coliseum Blvd.\, Fort Wayne\, IN\, 46805
END:VEVENT
BEGIN:VEVENT
DTSTART;TZID=UTC:20241211T114500
DTEND;TZID=UTC:20241211T131500
DTSTAMP:20260419T193712
CREATED:20240823T162243Z
LAST-MODIFIED:20240830T174251Z
UID:1240-1733917500-1733922900@gfwcampusministry.com
SUMMARY:Fresh-Men's Group
DESCRIPTION:Chase is leading this group designed specifically for Freshmen or new guys on campus. We will talk about what it truly means to be a Man of God and how we are to live out God’s calling for us. Bring your lunch and join us on Wednesdays. For more information\, reach out to Chase directly: chase@gfwcampusministry.com
URL:https://gfwcampusministry.com/event/fresh-mens-group/2024-12-11/
LOCATION:PFW Main Campus – WU G-21\, 2101 E. Coliseum Blvd.\, Fort Wayne\, IN\, 46805
CATEGORIES:Small Group
ATTACH;FMTTYPE=image/jpeg:https://gfwcampusministry.com/wp-content/uploads/2024/08/fresh-men.jpg
END:VEVENT
BEGIN:VEVENT
DTSTART;TZID=UTC:20241211T180000
DTEND;TZID=UTC:20241211T193000
DTSTAMP:20260419T193712
CREATED:20240823T130633Z
LAST-MODIFIED:20240823T152720Z
UID:1075-1733940000-1733945400@gfwcampusministry.com
SUMMARY:Conversations: Dead Week
DESCRIPTION:Our weekly\, discussion-based large group meeting. We’ll have snacks and great conversations!
URL:https://gfwcampusministry.com/event/conversations-4-2024-12-11/
LOCATION:PFW LA 35A\, 2101E. Coliseum Blvd.\, Fort Wayne\, IN\, 46805\, United States
CATEGORIES:Conversations
END:VEVENT
END:VCALENDAR