BEGIN:VCALENDAR
VERSION:2.0
PRODID:-//Greater Fort Wayne Campus Ministry - ECPv6.0.9//NONSGML v1.0//EN
CALSCALE:GREGORIAN
METHOD:PUBLISH
X-WR-CALNAME:Greater Fort Wayne Campus Ministry
X-ORIGINAL-URL:https://gfwcampusministry.com
X-WR-CALDESC:Events for Greater Fort Wayne Campus Ministry
REFRESH-INTERVAL;VALUE=DURATION:PT1H
X-Robots-Tag:noindex
X-PUBLISHED-TTL:PT1H
BEGIN:VTIMEZONE
TZID:UTC
BEGIN:STANDARD
TZOFFSETFROM:+0000
TZOFFSETTO:+0000
TZNAME:UTC
DTSTART:20240101T000000
END:STANDARD
END:VTIMEZONE
BEGIN:VEVENT
DTSTART;TZID=UTC:20241014T180000
DTEND;TZID=UTC:20241014T210000
DTSTAMP:20260420T021823
CREATED:20240823T163208Z
LAST-MODIFIED:20240823T163208Z
UID:1188-1728928800-1728939600@gfwcampusministry.com
SUMMARY:Co-Ed Small Group
DESCRIPTION:
URL:https://gfwcampusministry.com/event/co-ed-small-group-6/
LOCATION:PFW Main Campus – WU G-21\, 2101 E. Coliseum Blvd.\, Fort Wayne\, IN\, 46805
END:VEVENT
BEGIN:VEVENT
DTSTART;TZID=UTC:20241016T093000
DTEND;TZID=UTC:20241016T110000
DTSTAMP:20260420T021823
CREATED:20240826T181859Z
LAST-MODIFIED:20240826T181859Z
UID:1214-1729071000-1729076400@gfwcampusministry.com
SUMMARY:Women's Small Group
DESCRIPTION:Join Halle as she leads the gospel of Mark. Bring your bible and a notebook!
URL:https://gfwcampusministry.com/event/womens-small-group-2/2024-10-16/
LOCATION:LB 275
CATEGORIES:Small Group
ATTACH;FMTTYPE=image/jpeg:https://gfwcampusministry.com/wp-content/uploads/2024/08/HALLE.jpg
END:VEVENT
BEGIN:VEVENT
DTSTART;TZID=UTC:20241016T114500
DTEND;TZID=UTC:20241016T131500
DTSTAMP:20260420T021823
CREATED:20240823T161000Z
LAST-MODIFIED:20240823T161518Z
UID:1150-1729079100-1729084500@gfwcampusministry.com
SUMMARY:Women's Small Group - Gospel of Luke
DESCRIPTION:
URL:https://gfwcampusministry.com/event/womens-small-group-gospel-of-luke-2024-10-16/
LOCATION:PFW – LA16\, 2101 E. Coliseum Blvd.\, Fort Wayne\, IN\, 46805
CATEGORIES:Small Group
END:VEVENT
BEGIN:VEVENT
DTSTART;TZID=UTC:20241016T114500
DTEND;TZID=UTC:20241016T131500
DTSTAMP:20260420T021823
CREATED:20240823T162243Z
LAST-MODIFIED:20240830T174406Z
UID:1166-1729079100-1729084500@gfwcampusministry.com
SUMMARY:Fresh-Men's Group
DESCRIPTION:Chase is leading this group designed specifically for Freshmen or new guys on campus. We will talk about what it truly means to be a Man of God and how we are to live out God’s calling for us. Bring your lunch and join us on Wednesdays. For more information\, reach out to Chase directly: chase@gfwcampusministry.com
URL:https://gfwcampusministry.com/event/fresh-mens-group-2024-10-16/
LOCATION:PFW LA14\, 2101 E. Coliseum Blvd.\, Fort Wayne\, IN\, 46805
CATEGORIES:Small Group
ATTACH;FMTTYPE=image/jpeg:https://gfwcampusministry.com/wp-content/uploads/2024/08/fresh-men.jpg
END:VEVENT
BEGIN:VEVENT
DTSTART;TZID=UTC:20241016T180000
DTEND;TZID=UTC:20241016T193000
DTSTAMP:20260420T021823
CREATED:20240823T130633Z
LAST-MODIFIED:20240823T151027Z
UID:1067-1729101600-1729107000@gfwcampusministry.com
SUMMARY:Conversations: Service Panel
DESCRIPTION:Our weekly\, discussion-based large group meeting. We’ll have snacks and great conversations!
URL:https://gfwcampusministry.com/event/conversations-4-2024-10-16/
LOCATION:International Ballroom- Walb Student Union
CATEGORIES:Conversations
END:VEVENT
END:VCALENDAR