BEGIN:VCALENDAR
VERSION:2.0
PRODID:-//Greater Fort Wayne Campus Ministry - ECPv6.0.9//NONSGML v1.0//EN
CALSCALE:GREGORIAN
METHOD:PUBLISH
X-WR-CALNAME:Greater Fort Wayne Campus Ministry
X-ORIGINAL-URL:https://gfwcampusministry.com
X-WR-CALDESC:Events for Greater Fort Wayne Campus Ministry
REFRESH-INTERVAL;VALUE=DURATION:PT1H
X-Robots-Tag:noindex
X-PUBLISHED-TTL:PT1H
BEGIN:VTIMEZONE
TZID:UTC
BEGIN:STANDARD
TZOFFSETFROM:+0000
TZOFFSETTO:+0000
TZNAME:UTC
DTSTART:20240101T000000
END:STANDARD
END:VTIMEZONE
BEGIN:VEVENT
DTSTART;TZID=UTC:20240909T180000
DTEND;TZID=UTC:20240909T210000
DTSTAMP:20260420T021824
CREATED:20240823T162708Z
LAST-MODIFIED:20240823T162722Z
UID:1178-1725904800-1725915600@gfwcampusministry.com
SUMMARY:Co-Ed Small Group
DESCRIPTION:
URL:https://gfwcampusministry.com/event/co-ed-small-group/
LOCATION:PFW Main Campus- WU222\, 2101 E Coliseum Blvd\, Fort Wayne\, IN\, 46805
CATEGORIES:Small Group
END:VEVENT
BEGIN:VEVENT
DTSTART;TZID=UTC:20240911T093000
DTEND;TZID=UTC:20240911T110000
DTSTAMP:20260420T021824
CREATED:20240826T181859Z
LAST-MODIFIED:20240826T181859Z
UID:1209-1726047000-1726052400@gfwcampusministry.com
SUMMARY:Women's Small Group
DESCRIPTION:Join Halle as she leads the gospel of Mark. Bring your bible and a notebook!
URL:https://gfwcampusministry.com/event/womens-small-group-2/2024-09-11/
LOCATION:LB 275
CATEGORIES:Small Group
ATTACH;FMTTYPE=image/jpeg:https://gfwcampusministry.com/wp-content/uploads/2024/08/HALLE.jpg
END:VEVENT
BEGIN:VEVENT
DTSTART;TZID=UTC:20240911T180000
DTEND;TZID=UTC:20240911T193000
DTSTAMP:20260420T021824
CREATED:20240823T130633Z
LAST-MODIFIED:20240823T150737Z
UID:1062-1726077600-1726083000@gfwcampusministry.com
SUMMARY:Conversations: Who is God?
DESCRIPTION:Our weekly\, discussion-based large group meeting. We’ll have snacks and great conversations!
URL:https://gfwcampusministry.com/event/conversations-4-2024-09-11/
LOCATION:International Ballroom- Walb Student Union
CATEGORIES:Conversations
END:VEVENT
END:VCALENDAR