BEGIN:VCALENDAR
VERSION:2.0
PRODID:-//Greater Fort Wayne Campus Ministry - ECPv6.0.9//NONSGML v1.0//EN
CALSCALE:GREGORIAN
METHOD:PUBLISH
X-ORIGINAL-URL:https://gfwcampusministry.com
X-WR-CALDESC:Events for Greater Fort Wayne Campus Ministry
REFRESH-INTERVAL;VALUE=DURATION:PT1H
X-Robots-Tag:noindex
X-PUBLISHED-TTL:PT1H
BEGIN:VTIMEZONE
TZID:UTC
BEGIN:STANDARD
TZOFFSETFROM:+0000
TZOFFSETTO:+0000
TZNAME:UTC
DTSTART:20230101T000000
END:STANDARD
END:VTIMEZONE
BEGIN:VEVENT
DTSTART;TZID=UTC:20231213T180000
DTEND;TZID=UTC:20231213T193000
DTSTAMP:20260420T195413
CREATED:20230831T204007Z
LAST-MODIFIED:20230905T151211Z
UID:976-1702490400-1702495800@gfwcampusministry.com
SUMMARY:Conversations- Finals Week: No Programming
DESCRIPTION:Our weekly\, discussion-based large group meeting. We’ll have snacks and great conversations! \n 
URL:https://gfwcampusministry.com/event/conversations-3-2023-12-13/
CATEGORIES:Conversations
ATTACH;FMTTYPE=image/jpeg:https://gfwcampusministry.com/wp-content/uploads/2022/07/IMG_4696-1-e1693514365982.jpg
END:VEVENT
BEGIN:VEVENT
DTSTART;VALUE=DATE:20231217
DTEND;VALUE=DATE:20240108
DTSTAMP:20260420T195414
CREATED:20230905T151919Z
LAST-MODIFIED:20230905T151919Z
UID:1028-1702771200-1704671999@gfwcampusministry.com
SUMMARY:Winter Break
DESCRIPTION:
URL:https://gfwcampusministry.com/event/winter-break/
END:VEVENT
END:VCALENDAR