BEGIN:VCALENDAR
VERSION:2.0
PRODID:-//Greater Fort Wayne Campus Ministry - ECPv6.0.9//NONSGML v1.0//EN
CALSCALE:GREGORIAN
METHOD:PUBLISH
X-ORIGINAL-URL:https://gfwcampusministry.com
X-WR-CALDESC:Events for Greater Fort Wayne Campus Ministry
REFRESH-INTERVAL;VALUE=DURATION:PT1H
X-Robots-Tag:noindex
X-PUBLISHED-TTL:PT1H
BEGIN:VTIMEZONE
TZID:UTC
BEGIN:STANDARD
TZOFFSETFROM:+0000
TZOFFSETTO:+0000
TZNAME:UTC
DTSTART:20230101T000000
END:STANDARD
END:VTIMEZONE
BEGIN:VEVENT
DTSTART;TZID=UTC:20231122T180000
DTEND;TZID=UTC:20231122T193000
DTSTAMP:20260420T214135
CREATED:20230831T204007Z
LAST-MODIFIED:20230831T214112Z
UID:973-1700676000-1700681400@gfwcampusministry.com
SUMMARY:Thanksgiving Break- No Programming
DESCRIPTION:Enjoy your time off\, just a few weeks left in the semester!
URL:https://gfwcampusministry.com/event/conversations-3-2023-11-22/
CATEGORIES:Conversations
END:VEVENT
END:VCALENDAR