BEGIN:VCALENDAR
VERSION:2.0
PRODID:-//Greater Fort Wayne Campus Ministry - ECPv6.0.9//NONSGML v1.0//EN
CALSCALE:GREGORIAN
METHOD:PUBLISH
X-ORIGINAL-URL:https://gfwcampusministry.com
X-WR-CALDESC:Events for Greater Fort Wayne Campus Ministry
REFRESH-INTERVAL;VALUE=DURATION:PT1H
X-Robots-Tag:noindex
X-PUBLISHED-TTL:PT1H
BEGIN:VTIMEZONE
TZID:UTC
BEGIN:STANDARD
TZOFFSETFROM:+0000
TZOFFSETTO:+0000
TZNAME:UTC
DTSTART:20230101T000000
END:STANDARD
END:VTIMEZONE
BEGIN:VEVENT
DTSTART;TZID=UTC:20231101T180000
DTEND;TZID=UTC:20231101T193000
DTSTAMP:20260421T030506
CREATED:20230831T204007Z
LAST-MODIFIED:20230831T213020Z
UID:970-1698861600-1698867000@gfwcampusministry.com
SUMMARY:Conversations- Faith Posture
DESCRIPTION:Our weekly\, discussion-based large group meeting. We’ll have snacks and great conversations! \nPricilla and AY will be leading the discussion about what is faith and what it means to have the correct heart posture as a follower of Jesus.
URL:https://gfwcampusministry.com/event/conversations-3-2023-11-01/
LOCATION:PFW Main Campus- WU222\, 2101 E Coliseum Blvd\, Fort Wayne\, IN\, 46805
CATEGORIES:Conversations
ATTACH;FMTTYPE=image/jpeg:https://gfwcampusministry.com/wp-content/uploads/2022/07/IMG_4696-1-e1693514365982.jpg
END:VEVENT
END:VCALENDAR