BEGIN:VCALENDAR
VERSION:2.0
PRODID:-//Greater Fort Wayne Campus Ministry - ECPv6.0.9//NONSGML v1.0//EN
CALSCALE:GREGORIAN
METHOD:PUBLISH
X-ORIGINAL-URL:https://gfwcampusministry.com
X-WR-CALDESC:Events for Greater Fort Wayne Campus Ministry
REFRESH-INTERVAL;VALUE=DURATION:PT1H
X-Robots-Tag:noindex
X-PUBLISHED-TTL:PT1H
BEGIN:VTIMEZONE
TZID:UTC
BEGIN:STANDARD
TZOFFSETFROM:+0000
TZOFFSETTO:+0000
TZNAME:UTC
DTSTART:20230101T000000
END:STANDARD
END:VTIMEZONE
BEGIN:VEVENT
DTSTART;VALUE=DATE:20230501
DTEND;VALUE=DATE:20230506
DTSTAMP:20260421T044917
CREATED:20230302T200937Z
LAST-MODIFIED:20230302T200937Z
UID:916-1682899200-1683331199@gfwcampusministry.com
SUMMARY:Finals Week
DESCRIPTION:No programming this week. We are praying for you on your finals\, feel free to stop by the lounge for some encouragement or grab a snack!
URL:https://gfwcampusministry.com/event/finals-week/
END:VEVENT
BEGIN:VEVENT
DTSTART;TZID=UTC:20230503T180000
DTEND;TZID=UTC:20230503T193000
DTSTAMP:20260421T044917
CREATED:20230301T220657Z
LAST-MODIFIED:20230302T180702Z
UID:886-1683136800-1683142200@gfwcampusministry.com
SUMMARY:Conversations- No Programming
DESCRIPTION:Our weekly\, discussion-based large group meeting. We’ll have snacks and great conversations! \nGood luck on your finals! Hopefully\, we see you this summer. We are getting ready for the fall semester!
URL:https://gfwcampusministry.com/event/conversations-game-night-2023-05-03/
LOCATION:PFW Main Campus- WU222\, 2101 E Coliseum Blvd\, Fort Wayne\, IN\, 46805
CATEGORIES:Conversations
END:VEVENT
END:VCALENDAR