BEGIN:VCALENDAR
VERSION:2.0
PRODID:-//Greater Fort Wayne Campus Ministry - ECPv6.0.9//NONSGML v1.0//EN
CALSCALE:GREGORIAN
METHOD:PUBLISH
X-WR-CALNAME:Greater Fort Wayne Campus Ministry
X-ORIGINAL-URL:https://gfwcampusministry.com
X-WR-CALDESC:Events for Greater Fort Wayne Campus Ministry
REFRESH-INTERVAL;VALUE=DURATION:PT1H
X-Robots-Tag:noindex
X-PUBLISHED-TTL:PT1H
BEGIN:VTIMEZONE
TZID:UTC
BEGIN:STANDARD
TZOFFSETFROM:+0000
TZOFFSETTO:+0000
TZNAME:UTC
DTSTART:20230101T000000
END:STANDARD
END:VTIMEZONE
BEGIN:VEVENT
DTSTART;TZID=UTC:20230419T180000
DTEND;TZID=UTC:20230419T193000
DTSTAMP:20260421T085110
CREATED:20230301T220657Z
LAST-MODIFIED:20230330T163850Z
UID:884-1681927200-1681932600@gfwcampusministry.com
SUMMARY:Conversations-Can you KNOW God?
DESCRIPTION:Our weekly\, discussion-based large group meeting. We’ll have snacks and great conversations! \nMany see ‘religion’ as a set of rules and regulations\, while a lot of Christians see faith as more of a ‘relationship’ with God. But can we really know Him? If so\, how?
URL:https://gfwcampusministry.com/event/conversations-game-night-2023-04-19/
LOCATION:PFW Main Campus- WU222\, 2101 E Coliseum Blvd\, Fort Wayne\, IN\, 46805
CATEGORIES:Conversations
END:VEVENT
END:VCALENDAR