BEGIN:VCALENDAR
VERSION:2.0
PRODID:-//Greater Fort Wayne Campus Ministry - ECPv6.0.9//NONSGML v1.0//EN
CALSCALE:GREGORIAN
METHOD:PUBLISH
X-ORIGINAL-URL:https://gfwcampusministry.com
X-WR-CALDESC:Events for Greater Fort Wayne Campus Ministry
REFRESH-INTERVAL;VALUE=DURATION:PT1H
X-Robots-Tag:noindex
X-PUBLISHED-TTL:PT1H
BEGIN:VTIMEZONE
TZID:UTC
BEGIN:STANDARD
TZOFFSETFROM:+0000
TZOFFSETTO:+0000
TZNAME:UTC
DTSTART:20230101T000000
END:STANDARD
END:VTIMEZONE
BEGIN:VEVENT
DTSTART;VALUE=DATE:20230304
DTEND;VALUE=DATE:20230312
DTSTAMP:20260421T102439
CREATED:20230301T220215Z
LAST-MODIFIED:20230301T220215Z
UID:871-1677888000-1678579199@gfwcampusministry.com
SUMMARY:Mission Trip To Jamaica
DESCRIPTION:We are joining with 2 Ministries to serve the Jamaican people. Check out https://www.acexperience.org/ for more information. \nIf you’re not going on the trip\, please pray for us during this time!
URL:https://gfwcampusministry.com/event/mission-trip-to-jamaica/
CATEGORIES:Special Events
END:VEVENT
BEGIN:VEVENT
DTSTART;TZID=UTC:20230308T180000
DTEND;TZID=UTC:20230308T193000
DTSTAMP:20260421T102439
CREATED:20230301T220657Z
LAST-MODIFIED:20230301T220902Z
UID:878-1678298400-1678303800@gfwcampusministry.com
SUMMARY:Conversations- No Programming this week
DESCRIPTION:Our weekly\, discussion-based large group meeting. We’ll have snacks and great conversations! \nHave a great Spring Break!
URL:https://gfwcampusministry.com/event/conversations-game-night-2023-03-08/
LOCATION:PFW Main Campus- WU222\, 2101 E Coliseum Blvd\, Fort Wayne\, IN\, 46805
CATEGORIES:Conversations
END:VEVENT
END:VCALENDAR