BEGIN:VCALENDAR
VERSION:2.0
PRODID:-//Greater Fort Wayne Campus Ministry - ECPv6.0.9//NONSGML v1.0//EN
CALSCALE:GREGORIAN
METHOD:PUBLISH
X-ORIGINAL-URL:https://gfwcampusministry.com
X-WR-CALDESC:Events for Greater Fort Wayne Campus Ministry
REFRESH-INTERVAL;VALUE=DURATION:PT1H
X-Robots-Tag:noindex
X-PUBLISHED-TTL:PT1H
BEGIN:VTIMEZONE
TZID:UTC
BEGIN:STANDARD
TZOFFSETFROM:+0000
TZOFFSETTO:+0000
TZNAME:UTC
DTSTART:20220101T000000
END:STANDARD
END:VTIMEZONE
BEGIN:VEVENT
DTSTART;TZID=UTC:20221116T180000
DTEND;TZID=UTC:20221116T193000
DTSTAMP:20260421T184613
CREATED:20220817T161711Z
LAST-MODIFIED:20220817T173419Z
UID:693-1668621600-1668627000@gfwcampusministry.com
SUMMARY:Conversations: Friendsgiving
DESCRIPTION:Our weekly\, discussion-based large group meeting. We’ll have snacks and great conversations! \nLocation and Details TBD.
URL:https://gfwcampusministry.com/event/conversations-back-2-basics-2022-11-16/
LOCATION:PFW Main Campus- WU222\, 2101 E Coliseum Blvd\, Fort Wayne\, IN\, 46805
CATEGORIES:Conversations
END:VEVENT
END:VCALENDAR