BEGIN:VCALENDAR
VERSION:2.0
PRODID:-//Greater Fort Wayne Campus Ministry - ECPv6.0.9//NONSGML v1.0//EN
CALSCALE:GREGORIAN
METHOD:PUBLISH
X-WR-CALNAME:Greater Fort Wayne Campus Ministry
X-ORIGINAL-URL:https://gfwcampusministry.com
X-WR-CALDESC:Events for Greater Fort Wayne Campus Ministry
REFRESH-INTERVAL;VALUE=DURATION:PT1H
X-Robots-Tag:noindex
X-PUBLISHED-TTL:PT1H
BEGIN:VTIMEZONE
TZID:UTC
BEGIN:STANDARD
TZOFFSETFROM:+0000
TZOFFSETTO:+0000
TZNAME:UTC
DTSTART:20220101T000000
END:STANDARD
END:VTIMEZONE
BEGIN:VEVENT
DTSTART;TZID=UTC:20221109T180000
DTEND;TZID=UTC:20221109T193000
DTSTAMP:20260421T171110
CREATED:20220817T161711Z
LAST-MODIFIED:20220906T185804Z
UID:692-1668016800-1668022200@gfwcampusministry.com
SUMMARY:Conversations: "I Am..." Pt. 2
DESCRIPTION:Our weekly\, discussion-based large group meeting. We’ll have snacks and great conversations! \nJesus used the term\, “I am…” seven times in scripture. Join us as Brayden and Nick lead us in Part 2 of who Jesus said he was. \nRoom G08 is on the ground floor of Walb behind the seating area of the cafeteria. 
URL:https://gfwcampusministry.com/event/conversations-back-2-basics-2022-11-09/
LOCATION:PFW Main Campus- WU G-08
CATEGORIES:Conversations
END:VEVENT
END:VCALENDAR