BEGIN:VCALENDAR
VERSION:2.0
PRODID:-//Greater Fort Wayne Campus Ministry - ECPv6.0.9//NONSGML v1.0//EN
CALSCALE:GREGORIAN
METHOD:PUBLISH
X-WR-CALNAME:Greater Fort Wayne Campus Ministry
X-ORIGINAL-URL:https://gfwcampusministry.com
X-WR-CALDESC:Events for Greater Fort Wayne Campus Ministry
REFRESH-INTERVAL;VALUE=DURATION:PT1H
X-Robots-Tag:noindex
X-PUBLISHED-TTL:PT1H
BEGIN:VTIMEZONE
TZID:UTC
BEGIN:STANDARD
TZOFFSETFROM:+0000
TZOFFSETTO:+0000
TZNAME:UTC
DTSTART:20220101T000000
END:STANDARD
END:VTIMEZONE
BEGIN:VEVENT
DTSTART;TZID=UTC:20220824T080000
DTEND;TZID=UTC:20220824T170000
DTSTAMP:20260422T013134
CREATED:20220810T183758Z
LAST-MODIFIED:20220810T193225Z
UID:670-1661328000-1661360400@gfwcampusministry.com
SUMMARY:CM Campus Cab
DESCRIPTION:  \nNeed a lift? Jesus can raise you up!! But if you need a ride\, we can do that. We are giving free rides on the PFW main campus. Feel free to flag us down and let us help you find Jesus!…and get to where you’re going.
URL:https://gfwcampusministry.com/event/cm-campus-cab/
CATEGORIES:Special Events
END:VEVENT
BEGIN:VEVENT
DTSTART;TZID=UTC:20220824T180000
DTEND;TZID=UTC:20220824T180000
DTSTAMP:20260422T013134
CREATED:20220810T180536Z
LAST-MODIFIED:20220810T180536Z
UID:668-1661364000-1661364000@gfwcampusministry.com
SUMMARY:Conversations- CM Kickoff!
DESCRIPTION:Our weekly\, discussion-based large group meeting. We’ll have snacks and great conversations! \nThis is our first time back as a large group and we are so pumped! We will have pizza and the first 100 students through the door get a free CM T-Shirt! Come find out what CM is all about and how YOU can get involved.
URL:https://gfwcampusministry.com/event/conversations-cm-kickoff/
LOCATION:Classic Ballroom- Walb Student Union\, 2101E. Coliseum Blvd.\, Fort Wayne\, IN\, 46805\, United States
CATEGORIES:Conversations
END:VEVENT
END:VCALENDAR