BEGIN:VCALENDAR
VERSION:2.0
PRODID:-//Greater Fort Wayne Campus Ministry - ECPv6.0.9//NONSGML v1.0//EN
CALSCALE:GREGORIAN
METHOD:PUBLISH
X-ORIGINAL-URL:https://gfwcampusministry.com
X-WR-CALDESC:Events for Greater Fort Wayne Campus Ministry
REFRESH-INTERVAL;VALUE=DURATION:PT1H
X-Robots-Tag:noindex
X-PUBLISHED-TTL:PT1H
BEGIN:VTIMEZONE
TZID:UTC
BEGIN:STANDARD
TZOFFSETFROM:+0000
TZOFFSETTO:+0000
TZNAME:UTC
DTSTART:20220101T000000
END:STANDARD
END:VTIMEZONE
BEGIN:VEVENT
DTSTART;TZID=UTC:20220427T190000
DTEND;TZID=UTC:20220427T203000
DTSTAMP:20260422T064316
CREATED:20220105T211414Z
LAST-MODIFIED:20220106T175525Z
UID:425-1651086000-1651091400@gfwcampusministry.com
SUMMARY:Conversations- Dead Week Study Break
DESCRIPTION:Our weekly\, discussion-based large group meeting. We’ll have snacks and great conversations! \nThis week we will be at Parkwood Church across the street from Student Housing. Just low key hanging out. We’ll have food and games and the chance to take a break from all your finals studying.
URL:https://gfwcampusministry.com/event/conversations-2-2022-01-19-2022-04-27/
LOCATION:PFW Main Campus- WU222\, 2101 E Coliseum Blvd\, Fort Wayne\, IN\, 46805
CATEGORIES:Conversations
END:VEVENT
BEGIN:VEVENT
DTSTART;TZID=UTC:20220428T180000
DTEND;TZID=UTC:20220428T200000
DTSTAMP:20260422T064316
CREATED:20220225T152701Z
LAST-MODIFIED:20220415T163056Z
UID:601-1651168800-1651176000@gfwcampusministry.com
SUMMARY:CM Spring Celebration
DESCRIPTION:Supporters\, Community Members\, and Donors are all invited for this night of celebration for what the Lord is doing through Greater Fort Wayne Campus Ministry. You will receive a great meal and get to hear from students and staff on how God has been working on campus for the last two years. Click HERE to register. \n$40/person    $80/Couple     $300 Full Table (Seats 8)
URL:https://gfwcampusministry.com/event/cm-spring-celebration/
LOCATION:International Ballroom- Walb Student Union
CATEGORIES:Special Events
END:VEVENT
END:VCALENDAR