BEGIN:VCALENDAR
VERSION:2.0
PRODID:-//Greater Fort Wayne Campus Ministry - ECPv6.0.9//NONSGML v1.0//EN
CALSCALE:GREGORIAN
METHOD:PUBLISH
X-WR-CALNAME:Greater Fort Wayne Campus Ministry
X-ORIGINAL-URL:https://gfwcampusministry.com
X-WR-CALDESC:Events for Greater Fort Wayne Campus Ministry
REFRESH-INTERVAL;VALUE=DURATION:PT1H
X-Robots-Tag:noindex
X-PUBLISHED-TTL:PT1H
BEGIN:VTIMEZONE
TZID:UTC
BEGIN:STANDARD
TZOFFSETFROM:+0000
TZOFFSETTO:+0000
TZNAME:UTC
DTSTART:20220101T000000
END:STANDARD
END:VTIMEZONE
BEGIN:VEVENT
DTSTART;TZID=UTC:20220420T190000
DTEND;TZID=UTC:20220420T203000
DTSTAMP:20260422T044930
CREATED:20220105T211414Z
LAST-MODIFIED:20220106T175114Z
UID:424-1650481200-1650486600@gfwcampusministry.com
SUMMARY:Conversations- I'll Pray About It
DESCRIPTION:Our weekly\, discussion-based large group meeting. We’ll have snacks and great conversations! \nLogan and Taylor lead us in a conversation about prayer. \n**We are in WU G-08 for one last time this semester.
URL:https://gfwcampusministry.com/event/conversations-2-2022-01-19-2022-04-20/
LOCATION:PFW Main Campus- WU G-08
CATEGORIES:Conversations
END:VEVENT
END:VCALENDAR