BEGIN:VCALENDAR
VERSION:2.0
PRODID:-//Greater Fort Wayne Campus Ministry - ECPv6.0.9//NONSGML v1.0//EN
CALSCALE:GREGORIAN
METHOD:PUBLISH
X-ORIGINAL-URL:https://gfwcampusministry.com
X-WR-CALDESC:Events for Greater Fort Wayne Campus Ministry
REFRESH-INTERVAL;VALUE=DURATION:PT1H
X-Robots-Tag:noindex
X-PUBLISHED-TTL:PT1H
BEGIN:VTIMEZONE
TZID:UTC
BEGIN:STANDARD
TZOFFSETFROM:+0000
TZOFFSETTO:+0000
TZNAME:UTC
DTSTART:20210101T000000
END:STANDARD
END:VTIMEZONE
BEGIN:VEVENT
DTSTART;TZID=UTC:20211027T190000
DTEND;TZID=UTC:20211027T203000
DTSTAMP:20260422T231823
CREATED:20210707T164753Z
LAST-MODIFIED:20210921T203156Z
UID:200-1635361200-1635366600@gfwcampusministry.com
SUMMARY:Conversations- Stamp Out Hunger Treating
DESCRIPTION:Our weekly\, discussion-based large group meeting. We’ll have snacks and great conversations! \n  \nJoin us this week as we host a special event to help PFW Crush Out Hunger! Feel free to dress in a costume and we will be collecting canned goods to donate to the food bank. More details to come!
URL:https://gfwcampusministry.com/event/conversations-2021-10-27/
LOCATION:PFW Main Campus- WU222\, 2101 E Coliseum Blvd\, Fort Wayne\, IN\, 46805
CATEGORIES:Conversations
END:VEVENT
END:VCALENDAR