BEGIN:VCALENDAR
VERSION:2.0
PRODID:-//Greater Fort Wayne Campus Ministry - ECPv6.0.9//NONSGML v1.0//EN
CALSCALE:GREGORIAN
METHOD:PUBLISH
X-ORIGINAL-URL:https://gfwcampusministry.com
X-WR-CALDESC:Events for Greater Fort Wayne Campus Ministry
REFRESH-INTERVAL;VALUE=DURATION:PT1H
X-Robots-Tag:noindex
X-PUBLISHED-TTL:PT1H
BEGIN:VTIMEZONE
TZID:UTC
BEGIN:STANDARD
TZOFFSETFROM:+0000
TZOFFSETTO:+0000
TZNAME:UTC
DTSTART:20210101T000000
END:STANDARD
END:VTIMEZONE
BEGIN:VEVENT
DTSTART;TZID=UTC:20211006T190000
DTEND;TZID=UTC:20211006T203000
DTSTAMP:20260422T222620
CREATED:20210707T164753Z
LAST-MODIFIED:20210921T202446Z
UID:197-1633546800-1633552200@gfwcampusministry.com
SUMMARY:Conversations- Who is Jesus? (PIZZA NIGHT)
DESCRIPTION:Our weekly\, discussion-based large group meeting. We’ll have snacks and great conversations! \n  \nFREE PIZZA THIS WEEK!!
URL:https://gfwcampusministry.com/event/conversations-2021-10-06/
LOCATION:PFW LA 35A\, 2101E. Coliseum Blvd.\, Fort Wayne\, IN\, 46805\, United States
CATEGORIES:Conversations
END:VEVENT
END:VCALENDAR