BEGIN:VCALENDAR
VERSION:2.0
PRODID:-//Greater Fort Wayne Campus Ministry - ECPv6.0.9//NONSGML v1.0//EN
CALSCALE:GREGORIAN
METHOD:PUBLISH
X-ORIGINAL-URL:https://gfwcampusministry.com
X-WR-CALDESC:Events for Greater Fort Wayne Campus Ministry
REFRESH-INTERVAL;VALUE=DURATION:PT1H
X-Robots-Tag:noindex
X-PUBLISHED-TTL:PT1H
BEGIN:VTIMEZONE
TZID:UTC
BEGIN:STANDARD
TZOFFSETFROM:+0000
TZOFFSETTO:+0000
TZNAME:UTC
DTSTART:20210101T000000
END:STANDARD
END:VTIMEZONE
BEGIN:VEVENT
DTSTART;TZID=UTC:20210915T190000
DTEND;TZID=UTC:20210915T203000
DTSTAMP:20260422T222619
CREATED:20210707T164753Z
LAST-MODIFIED:20210823T144540Z
UID:194-1631732400-1631737800@gfwcampusministry.com
SUMMARY:Conversations- Rob\, Peter\, Paul
DESCRIPTION:Our weekly\, discussion-based large group meeting. We’ll have snacks and great conversations!
URL:https://gfwcampusministry.com/event/conversations-2021-09-15/
LOCATION:PFW Main Campus- WU222\, 2101 E Coliseum Blvd\, Fort Wayne\, IN\, 46805
CATEGORIES:Conversations
END:VEVENT
BEGIN:VEVENT
DTSTART;TZID=UTC:20210919T093000
DTEND;TZID=UTC:20210919T120000
DTSTAMP:20260422T222619
CREATED:20210707T193330Z
LAST-MODIFIED:20210823T151313Z
UID:293-1632043800-1632052800@gfwcampusministry.com
SUMMARY:CM Local Church Tour- Blackhawk Ministries
DESCRIPTION:Looking for a local church to attend and plug into? We want to help! Join us on the 1st and 3rd Sunday of the month to visit a new local church. Let us know if you’re coming and we’ll save you a seat and provide a meal after service! \nThis week we are visiting Blackhawk Ministries. Blackhawk is a middle sized/large church with a more contemporary worship service. They have a Young Adults group that meets Sunday Mornings at 9:30 then most members attend the 11am service.  \nSign Up Here by Wednesday\, September 15.
URL:https://gfwcampusministry.com/event/cm-local-church-tour-blackhawk-ministries/
LOCATION:Blackhawk Ministries\, 7400 E. State Blvd\, Fort Wayne\, IN\, 46815
CATEGORIES:Church Tour
END:VEVENT
BEGIN:VEVENT
DTSTART;TZID=UTC:20210919T130000
DTEND;TZID=UTC:20210919T153000
DTSTAMP:20260422T222619
CREATED:20210913T185532Z
LAST-MODIFIED:20210913T185532Z
UID:377-1632056400-1632065400@gfwcampusministry.com
SUMMARY:Service Project
DESCRIPTION:We are partnering with NeighborLink Fort Wayne to serve our community. More info to come soon.
URL:https://gfwcampusministry.com/event/service-project/
CATEGORIES:Service Events
END:VEVENT
END:VCALENDAR