BEGIN:VCALENDAR
VERSION:2.0
PRODID:-//Greater Fort Wayne Campus Ministry - ECPv6.0.9//NONSGML v1.0//EN
CALSCALE:GREGORIAN
METHOD:PUBLISH
X-ORIGINAL-URL:https://gfwcampusministry.com
X-WR-CALDESC:Events for Greater Fort Wayne Campus Ministry
REFRESH-INTERVAL;VALUE=DURATION:PT1H
X-Robots-Tag:noindex
X-PUBLISHED-TTL:PT1H
BEGIN:VTIMEZONE
TZID:UTC
BEGIN:STANDARD
TZOFFSETFROM:+0000
TZOFFSETTO:+0000
TZNAME:UTC
DTSTART:20230101T000000
END:STANDARD
END:VTIMEZONE
BEGIN:VEVENT
DTSTART;TZID=UTC:20231004T180000
DTEND;TZID=UTC:20231004T193000
DTSTAMP:20260420T180237
CREATED:20230831T204007Z
LAST-MODIFIED:20230831T210647Z
UID:966-1696442400-1696447800@gfwcampusministry.com
SUMMARY:Conversations- How To: Rest in the Lord
DESCRIPTION:Our weekly\, discussion-based large group meeting. We’ll have snacks and great conversations! \nPart 3 of our “How To:” series. Wilder and Ashlyn will be sharing about rest\, rhythms\, and sabbath.
URL:https://gfwcampusministry.com/event/conversations-3-2023-10-04/
LOCATION:PFW Main Campus- WU222\, 2101 E Coliseum Blvd\, Fort Wayne\, IN\, 46805
CATEGORIES:Conversations
ATTACH;FMTTYPE=image/jpeg:https://gfwcampusministry.com/wp-content/uploads/2022/07/IMG_4696-1-e1693514365982.jpg
END:VEVENT
BEGIN:VEVENT
DTSTART;TZID=UTC:20231011T180000
DTEND;TZID=UTC:20231011T193000
DTSTAMP:20260420T180237
CREATED:20230831T204007Z
LAST-MODIFIED:20230831T211634Z
UID:967-1697047200-1697052600@gfwcampusministry.com
SUMMARY:Conversations- How To: Set Boundaries
DESCRIPTION:Our weekly\, discussion-based large group meeting. We’ll have snacks and great conversations! \nWrapping up our “How To:” series with Part 4: Boundaries. Izzy and Evie will lead the discussion about how to have boundaries and still love people well.
URL:https://gfwcampusministry.com/event/conversations-3-2023-10-11/
LOCATION:PFW Main Campus- WU222\, 2101 E Coliseum Blvd\, Fort Wayne\, IN\, 46805
CATEGORIES:Conversations
ATTACH;FMTTYPE=image/jpeg:https://gfwcampusministry.com/wp-content/uploads/2022/07/IMG_4696-1-e1693514365982.jpg
END:VEVENT
BEGIN:VEVENT
DTSTART;TZID=UTC:20231018T180000
DTEND;TZID=UTC:20231018T193000
DTSTAMP:20260420T180237
CREATED:20230831T204007Z
LAST-MODIFIED:20230831T211535Z
UID:968-1697652000-1697657400@gfwcampusministry.com
SUMMARY:Conversations-No Stupid Questions
DESCRIPTION:Our weekly\, discussion-based large group meeting. We’ll have snacks and great conversations! \nWe spent the last month discussing how to do a lot of things\, but you may have some questions. This is your opportunity to ask about any an everything! We will have a special panel assembled to help give you some answers.
URL:https://gfwcampusministry.com/event/conversations-3-2023-10-18/
LOCATION:PFW Main Campus- WU222\, 2101 E Coliseum Blvd\, Fort Wayne\, IN\, 46805
CATEGORIES:Conversations
ATTACH;FMTTYPE=image/jpeg:https://gfwcampusministry.com/wp-content/uploads/2022/07/IMG_4696-1-e1693514365982.jpg
END:VEVENT
BEGIN:VEVENT
DTSTART;TZID=UTC:20231025T180000
DTEND;TZID=UTC:20231025T193000
DTSTAMP:20260420T180237
CREATED:20230831T204007Z
LAST-MODIFIED:20230831T212801Z
UID:969-1698256800-1698262200@gfwcampusministry.com
SUMMARY:Conversations-Harvest Hoedown
DESCRIPTION:Our weekly\, discussion-based large group meeting. We’ll have snacks and great conversations! \nWe are taking a break from our regularly scheduled programming for some good ol’ fashioned fun down on the farm! (Not really a farm\, it’s on campus…but you get it.) Grab your hat\, dress in your flannel\, and join us for some fall snacks and activities\, maybe even some line dances. \nWe will be in the Liberal Arts Amphitheater. Follow the sidewalk out behind Walb through the woods to find us.
URL:https://gfwcampusministry.com/event/conversations-3-2023-10-25/
LOCATION:PFW Visual Arts Amphitheater
CATEGORIES:Conversations,Special Events
ATTACH;FMTTYPE=image/jpeg:https://gfwcampusministry.com/wp-content/uploads/2023/08/Hoedown-e1693517177326.jpeg
END:VEVENT
BEGIN:VEVENT
DTSTART;TZID=UTC:20231027T170000
DTEND;TZID=UTC:20231029T120000
DTSTAMP:20260420T180237
CREATED:20230905T195038Z
LAST-MODIFIED:20230905T195038Z
UID:1030-1698426000-1698580800@gfwcampusministry.com
SUMMARY:Fall Retreat
DESCRIPTION:Kick back and spend the weekend getting to know some of the best people on campus! More details and sign up will be up soon! Add it to the calendar!
URL:https://gfwcampusministry.com/event/fall-retreat-2/
LOCATION:Camp Alexander Mack\, 1113 E Camp Mack Rd\, Milford\, IN\, 46542
CATEGORIES:Retreats
ATTACH;FMTTYPE=image/jpeg:https://gfwcampusministry.com/wp-content/uploads/2020/12/40802730_1854833787886843_7340038090263625728_n.jpg
END:VEVENT
END:VCALENDAR