BEGIN:VCALENDAR
VERSION:2.0
PRODID:-//Greater Fort Wayne Campus Ministry - ECPv6.0.9//NONSGML v1.0//EN
CALSCALE:GREGORIAN
METHOD:PUBLISH
X-WR-CALNAME:Greater Fort Wayne Campus Ministry
X-ORIGINAL-URL:https://gfwcampusministry.com
X-WR-CALDESC:Events for Greater Fort Wayne Campus Ministry
REFRESH-INTERVAL;VALUE=DURATION:PT1H
X-Robots-Tag:noindex
X-PUBLISHED-TTL:PT1H
BEGIN:VTIMEZONE
TZID:UTC
BEGIN:STANDARD
TZOFFSETFROM:+0000
TZOFFSETTO:+0000
TZNAME:UTC
DTSTART:20230101T000000
END:STANDARD
END:VTIMEZONE
BEGIN:VEVENT
DTSTART;TZID=UTC:20230906T180000
DTEND;TZID=UTC:20230906T193000
DTSTAMP:20260420T195124
CREATED:20230831T204007Z
LAST-MODIFIED:20230831T204639Z
UID:961-1694023200-1694028600@gfwcampusministry.com
SUMMARY:Conversations- The Greatest Love Story
DESCRIPTION:Our weekly\, discussion-based large group meeting. We’ll have snacks and great conversations! \nThis week we are talking about the greatest love story ever told! \nWe are also giving away free T-Shirts and Free Pizza! \n 
URL:https://gfwcampusministry.com/event/conversations-3/
LOCATION:PFW Main Campus- WU222\, 2101 E Coliseum Blvd\, Fort Wayne\, IN\, 46805
CATEGORIES:Conversations
ATTACH;FMTTYPE=image/jpeg:https://gfwcampusministry.com/wp-content/uploads/2022/07/IMG_4696-1-e1693514365982.jpg
END:VEVENT
BEGIN:VEVENT
DTSTART;TZID=UTC:20230913T180000
DTEND;TZID=UTC:20230913T193000
DTSTAMP:20260420T195124
CREATED:20230831T204007Z
LAST-MODIFIED:20230831T205033Z
UID:963-1694628000-1694633400@gfwcampusministry.com
SUMMARY:Conversations- How To: Study the Bible
DESCRIPTION:Our weekly\, discussion-based large group meeting. We’ll have snacks and great conversations! \nThis week Josh and Lauren are kicking off our “How To:” series with how to study the Bible. You’re in college now\, no one is going to be spoon feeding you scripture. \n 
URL:https://gfwcampusministry.com/event/conversations-3-2023-09-13/
LOCATION:PFW Main Campus- WU222\, 2101 E Coliseum Blvd\, Fort Wayne\, IN\, 46805
CATEGORIES:Conversations
ATTACH;FMTTYPE=image/jpeg:https://gfwcampusministry.com/wp-content/uploads/2022/07/IMG_4696-1-e1693514365982.jpg
END:VEVENT
BEGIN:VEVENT
DTSTART;TZID=UTC:20230920T100000
DTEND;TZID=UTC:20230920T220000
DTSTAMP:20260420T195124
CREATED:20230831T204007Z
LAST-MODIFIED:20230831T205718Z
UID:964-1695204000-1695247200@gfwcampusministry.com
SUMMARY:Tent Event
DESCRIPTION:Join us in the center of the PFW Campus for 12 hours of prayer in worship at the tent! We have several local churches as well as partnering with several student orgs on campus to be united in Christ and bring his love to our campus. \n 
URL:https://gfwcampusministry.com/event/conversations-3-2023-09-20/
LOCATION:PFW Main Campus- Science Mall\, 2101E. Coliseum Blvd.\, Fort Wayne\, IN\, 46805\, United States
CATEGORIES:Special Events
ATTACH;FMTTYPE=image/jpeg:https://gfwcampusministry.com/wp-content/uploads/2022/08/Housing-Worship-copy-e1661803663793.jpg
END:VEVENT
BEGIN:VEVENT
DTSTART;TZID=UTC:20230927T180000
DTEND;TZID=UTC:20230927T193000
DTSTAMP:20260420T195124
CREATED:20230831T204007Z
LAST-MODIFIED:20230831T210416Z
UID:965-1695837600-1695843000@gfwcampusministry.com
SUMMARY:Conversations- How To: Manage Finances Biblically
DESCRIPTION:Our weekly\, discussion-based large group meeting. We’ll have snacks and great conversations! \nPart 2 of our “How To:” Series. This week we will have special guest Brain Clay a Financial Advisor for Edward Jones share with us what Biblical money management looks like.
URL:https://gfwcampusministry.com/event/conversations-3-2023-09-27/
LOCATION:PFW Main Campus- WU222\, 2101 E Coliseum Blvd\, Fort Wayne\, IN\, 46805
CATEGORIES:Conversations
ATTACH;FMTTYPE=image/jpeg:https://gfwcampusministry.com/wp-content/uploads/2022/07/IMG_4696-1-e1693514365982.jpg
END:VEVENT
END:VCALENDAR