BEGIN:VCALENDAR
VERSION:2.0
PRODID:-//Greater Fort Wayne Campus Ministry - ECPv6.0.9//NONSGML v1.0//EN
CALSCALE:GREGORIAN
METHOD:PUBLISH
X-WR-CALNAME:Greater Fort Wayne Campus Ministry
X-ORIGINAL-URL:https://gfwcampusministry.com
X-WR-CALDESC:Events for Greater Fort Wayne Campus Ministry
REFRESH-INTERVAL;VALUE=DURATION:PT1H
X-Robots-Tag:noindex
X-PUBLISHED-TTL:PT1H
BEGIN:VTIMEZONE
TZID:UTC
BEGIN:STANDARD
TZOFFSETFROM:+0000
TZOFFSETTO:+0000
TZNAME:UTC
DTSTART:20230101T000000
END:STANDARD
END:VTIMEZONE
BEGIN:VEVENT
DTSTART;TZID=UTC:20230301T180000
DTEND;TZID=UTC:20230301T193000
DTSTAMP:20260421T065043
CREATED:20230301T220657Z
LAST-MODIFIED:20230302T180442Z
UID:875-1677693600-1677699000@gfwcampusministry.com
SUMMARY:Conversations- Dead Week Game Night
DESCRIPTION:Our weekly\, discussion-based large group meeting. We’ll have snacks and great conversations! \nYou need a study break! Put the books down for a couple hours\, grab a snack\, and hang with friends one last time before the semester ends!
URL:https://gfwcampusministry.com/event/conversations-game-night/2023-03-01/
LOCATION:PFW Main Campus- WU222\, 2101 E Coliseum Blvd\, Fort Wayne\, IN\, 46805
CATEGORIES:Conversations
END:VEVENT
BEGIN:VEVENT
DTSTART;VALUE=DATE:20230304
DTEND;VALUE=DATE:20230312
DTSTAMP:20260421T065043
CREATED:20230301T220215Z
LAST-MODIFIED:20230301T220215Z
UID:871-1677888000-1678579199@gfwcampusministry.com
SUMMARY:Mission Trip To Jamaica
DESCRIPTION:We are joining with 2 Ministries to serve the Jamaican people. Check out https://www.acexperience.org/ for more information. \nIf you’re not going on the trip\, please pray for us during this time!
URL:https://gfwcampusministry.com/event/mission-trip-to-jamaica/
CATEGORIES:Special Events
END:VEVENT
BEGIN:VEVENT
DTSTART;TZID=UTC:20230308T180000
DTEND;TZID=UTC:20230308T193000
DTSTAMP:20260421T065043
CREATED:20230301T220657Z
LAST-MODIFIED:20230301T220902Z
UID:878-1678298400-1678303800@gfwcampusministry.com
SUMMARY:Conversations- No Programming this week
DESCRIPTION:Our weekly\, discussion-based large group meeting. We’ll have snacks and great conversations! \nHave a great Spring Break!
URL:https://gfwcampusministry.com/event/conversations-game-night-2023-03-08/
LOCATION:PFW Main Campus- WU222\, 2101 E Coliseum Blvd\, Fort Wayne\, IN\, 46805
CATEGORIES:Conversations
END:VEVENT
BEGIN:VEVENT
DTSTART;TZID=UTC:20230315T180000
DTEND;TZID=UTC:20230315T193000
DTSTAMP:20260421T065043
CREATED:20230301T220657Z
LAST-MODIFIED:20230302T152119Z
UID:879-1678903200-1678908600@gfwcampusministry.com
SUMMARY:Conversations- Jamaican Me Crazy
DESCRIPTION:Our weekly\, discussion-based large group meeting. We’ll have snacks and great conversations! \nThis week our Missions team will share stories and testemonies of how the Lord moved during their time in Jamaica for the Spring Break 2023 trip.
URL:https://gfwcampusministry.com/event/conversations-game-night-2023-03-15/
LOCATION:PFW Main Campus- WU222\, 2101 E Coliseum Blvd\, Fort Wayne\, IN\, 46805
CATEGORIES:Conversations
END:VEVENT
BEGIN:VEVENT
DTSTART;TZID=UTC:20230322T180000
DTEND;TZID=UTC:20230322T193000
DTSTAMP:20260421T065043
CREATED:20230301T220657Z
LAST-MODIFIED:20230302T175902Z
UID:880-1679508000-1679513400@gfwcampusministry.com
SUMMARY:Conversations- You are Seen
DESCRIPTION:Our weekly\, discussion-based large group meeting. We’ll have snacks and great conversations! \nWe will have a special guest this week\, Sarra Hudson. She will give an incredible talk about beings seen and living through our brokenness.
URL:https://gfwcampusministry.com/event/conversations-game-night-2023-03-22/
LOCATION:PFW Main Campus- WU222\, 2101 E Coliseum Blvd\, Fort Wayne\, IN\, 46805
CATEGORIES:Conversations
END:VEVENT
BEGIN:VEVENT
DTSTART;TZID=UTC:20230329T180000
DTEND;TZID=UTC:20230329T193000
DTSTAMP:20260421T065043
CREATED:20230301T220657Z
LAST-MODIFIED:20230330T163348Z
UID:881-1680112800-1680118200@gfwcampusministry.com
SUMMARY:Conversations-What is Church?
DESCRIPTION:Our weekly\, discussion-based large group meeting. We’ll have snacks and great conversations! \nThis week\, Austi and Halle\, will share with us about Church. What is it? Do we need it? Can I just stream it on Sunday morning?
URL:https://gfwcampusministry.com/event/conversations-game-night-2023-03-29/
LOCATION:PFW Main Campus- WU222\, 2101 E Coliseum Blvd\, Fort Wayne\, IN\, 46805
CATEGORIES:Conversations
END:VEVENT
END:VCALENDAR