BEGIN:VCALENDAR
VERSION:2.0
PRODID:-//Greater Fort Wayne Campus Ministry - ECPv6.0.9//NONSGML v1.0//EN
CALSCALE:GREGORIAN
METHOD:PUBLISH
X-ORIGINAL-URL:https://gfwcampusministry.com
X-WR-CALDESC:Events for Greater Fort Wayne Campus Ministry
REFRESH-INTERVAL;VALUE=DURATION:PT1H
X-Robots-Tag:noindex
X-PUBLISHED-TTL:PT1H
BEGIN:VTIMEZONE
TZID:UTC
BEGIN:STANDARD
TZOFFSETFROM:+0000
TZOFFSETTO:+0000
TZNAME:UTC
DTSTART:20220101T000000
END:STANDARD
END:VTIMEZONE
BEGIN:VEVENT
DTSTART;TZID=UTC:20221005T180000
DTEND;TZID=UTC:20221005T193000
DTSTAMP:20260421T152834
CREATED:20220817T161711Z
LAST-MODIFIED:20220906T185523Z
UID:687-1664992800-1664998200@gfwcampusministry.com
SUMMARY:Conversations: What is Prayer
DESCRIPTION:Our weekly\, discussion-based large group meeting. We’ll have snacks and great conversations! \nThis week\, Hailee and Nick will lead us in a discussion about what prayer really is and why do we do it. \nRoom G08 is on the ground floor of Walb behind the seating area of the cafeteria. 
URL:https://gfwcampusministry.com/event/conversations-back-2-basics-2022-10-05/
LOCATION:PFW Main Campus- WU G-08
CATEGORIES:Conversations
END:VEVENT
BEGIN:VEVENT
DTSTART;TZID=UTC:20221012T180000
DTEND;TZID=UTC:20221012T193000
DTSTAMP:20260421T152834
CREATED:20220817T161711Z
LAST-MODIFIED:20220906T185649Z
UID:688-1665597600-1665603000@gfwcampusministry.com
SUMMARY:Conversations: Evangelism
DESCRIPTION:Our weekly\, discussion-based large group meeting. We’ll have snacks and great conversations! \nThis week\, Mallory and Halle will be sharing with us about spreading the Good News! \nRoom G08 is on the ground floor of Walb behind the seating area of the cafeteria. 
URL:https://gfwcampusministry.com/event/conversations-back-2-basics-2022-10-12/
LOCATION:PFW Main Campus- WU222\, 2101 E Coliseum Blvd\, Fort Wayne\, IN\, 46805
CATEGORIES:Conversations
END:VEVENT
BEGIN:VEVENT
DTSTART;TZID=UTC:20221019T180000
DTEND;TZID=UTC:20221019T193000
DTSTAMP:20260421T152834
CREATED:20220817T161711Z
LAST-MODIFIED:20220906T185628Z
UID:689-1666202400-1666207800@gfwcampusministry.com
SUMMARY:Conversations: Spiritual Warfare
DESCRIPTION:Our weekly\, discussion-based large group meeting. We’ll have snacks and great conversations! \nWe have a special guest joining us this week: Dr. Ben Gates. Dr. Gates is the form director of CM and a professor in the History Department at PFW. He will be leading short discussion and Q & A about the supernatural world that we cannot see.
URL:https://gfwcampusministry.com/event/conversations-back-2-basics-2022-10-19/
LOCATION:PFW Main Campus- WU222\, 2101 E Coliseum Blvd\, Fort Wayne\, IN\, 46805
CATEGORIES:Conversations
END:VEVENT
BEGIN:VEVENT
DTSTART;TZID=UTC:20221026T180000
DTEND;TZID=UTC:20221026T193000
DTSTAMP:20260421T152834
CREATED:20220817T161711Z
LAST-MODIFIED:20220817T172316Z
UID:690-1666807200-1666812600@gfwcampusministry.com
SUMMARY:Crush Hunger Can Drive
DESCRIPTION:Taking a break from our normal programming for our second annual canned food drive. Wear a costume and we will head out into a local neighborhood to collect non-perishable food for the Crush Hunger Food Drive.
URL:https://gfwcampusministry.com/event/conversations-back-2-basics-2022-10-26/
LOCATION:PFW Main Campus- WU222\, 2101 E Coliseum Blvd\, Fort Wayne\, IN\, 46805
CATEGORIES:Conversations
END:VEVENT
END:VCALENDAR