BEGIN:VCALENDAR
VERSION:2.0
PRODID:-//Greater Fort Wayne Campus Ministry - ECPv6.0.9//NONSGML v1.0//EN
CALSCALE:GREGORIAN
METHOD:PUBLISH
X-ORIGINAL-URL:https://gfwcampusministry.com
X-WR-CALDESC:Events for Greater Fort Wayne Campus Ministry
REFRESH-INTERVAL;VALUE=DURATION:PT1H
X-Robots-Tag:noindex
X-PUBLISHED-TTL:PT1H
BEGIN:VTIMEZONE
TZID:UTC
BEGIN:STANDARD
TZOFFSETFROM:+0000
TZOFFSETTO:+0000
TZNAME:UTC
DTSTART:20230101T000000
END:STANDARD
END:VTIMEZONE
BEGIN:VEVENT
DTSTART;TZID=UTC:20230414T190000
DTEND;TZID=UTC:20230414T210000
DTSTAMP:20260421T180411
CREATED:20230302T181101Z
LAST-MODIFIED:20230302T181149Z
UID:910-1681498800-1681506000@gfwcampusministry.com
SUMMARY:CM Semi-Formal
DESCRIPTION:Get dressed up (As much or as little as your would like) and join us on the dance floor. Whether prom was a great experience or not\, we can all admit it is so fun to get dolled and dappered up and have a great time with your friends.
URL:https://gfwcampusministry.com/event/cm-semi-formal/
LOCATION:Classic Ballroom- Walb Student Union\, 2101E. Coliseum Blvd.\, Fort Wayne\, IN\, 46805\, United States
CATEGORIES:Special Events
END:VEVENT
END:VCALENDAR