BEGIN:VCALENDAR
VERSION:2.0
PRODID:-//Greater Fort Wayne Campus Ministry - ECPv6.0.9//NONSGML v1.0//EN
CALSCALE:GREGORIAN
METHOD:PUBLISH
X-WR-CALNAME:Greater Fort Wayne Campus Ministry
X-ORIGINAL-URL:https://gfwcampusministry.com
X-WR-CALDESC:Events for Greater Fort Wayne Campus Ministry
REFRESH-INTERVAL;VALUE=DURATION:PT1H
X-Robots-Tag:noindex
X-PUBLISHED-TTL:PT1H
BEGIN:VTIMEZONE
TZID:UTC
BEGIN:STANDARD
TZOFFSETFROM:+0000
TZOFFSETTO:+0000
TZNAME:UTC
DTSTART:20220101T000000
END:STANDARD
END:VTIMEZONE
BEGIN:VEVENT
DTSTART;TZID=UTC:20220907T193000
DTEND;TZID=UTC:20220907T220000
DTSTAMP:20260422T060314
CREATED:20220906T190818Z
LAST-MODIFIED:20220906T195115Z
UID:826-1662579000-1662588000@gfwcampusministry.com
SUMMARY:CM L8R
DESCRIPTION:“Conversations” is great\, but sometimes we just want unstructured time to hang out! Come hang with us at Parkwood Church of God across the street from student housing. There is a gym for basketball and volleyball as well as a seating area for cards and conversations. Who knows\, there may be food or bring your own snacks!
URL:https://gfwcampusministry.com/event/cm-l8r/2022-09-07/
LOCATION:Parkwood Church of God\, 3320 Trier Rd\, Fort Wayne\, IN\, 46815
CATEGORIES:CML8R
END:VEVENT
BEGIN:VEVENT
DTSTART;TZID=UTC:20220908T100000
DTEND;TZID=UTC:20220908T220000
DTSTAMP:20260422T060314
CREATED:20220829T201737Z
LAST-MODIFIED:20220829T201737Z
UID:788-1662631200-1662674400@gfwcampusministry.com
SUMMARY:Tent Event
DESCRIPTION:Join together as the body of Christ with several churches\, student organizations\, and groups for an amazing prayer and praise time in the center of the PFW campus. We will have 12 solid hours of prayer and praise and worship under the tent in the Science Mall. Stop out between classes\, stay for a while\, or stay all day. The Lord is moving in this generation and it is happening on our college campuses!
URL:https://gfwcampusministry.com/event/tent-event/
LOCATION:PFW Main Campus- Science Mall\, 2101E. Coliseum Blvd.\, Fort Wayne\, IN\, 46805\, United States
CATEGORIES:Special Events
ATTACH;FMTTYPE=image/jpeg:https://gfwcampusministry.com/wp-content/uploads/2022/08/Housing-Worship-copy-e1661803663793.jpg
END:VEVENT
BEGIN:VEVENT
DTSTART;TZID=UTC:20220910T160000
DTEND;TZID=UTC:20220910T180000
DTSTAMP:20260422T060314
CREATED:20220902T143109Z
LAST-MODIFIED:20220902T143109Z
UID:811-1662825600-1662832800@gfwcampusministry.com
SUMMARY:CM Alumni Cookout
DESCRIPTION:Greater Fort Wayne Campus Ministry has been on mission on the campus of PFW for over 50 years. The last 15-20 years have seen some of the most growth and impact. As a CM Alumni\, you are a part of that legacy\, and we want to see you! Bring a spouse\, the kids\, or a friend and join us for a free cookout behind the Walb Student Union. You will get to catch up with old CM buddies and meet many more new ones. Please RSVP HERE!
URL:https://gfwcampusministry.com/event/cm-alumni-cookout/
LOCATION:PFW Main Campus- Friends Pavilion\, 2101E. Coliseum Blvd.\, Fort Wayne\, IN\, 46805\, United States
CATEGORIES:Special Events
END:VEVENT
END:VCALENDAR