BEGIN:VCALENDAR
VERSION:2.0
PRODID:-//Greater Fort Wayne Campus Ministry - ECPv6.0.9//NONSGML v1.0//EN
CALSCALE:GREGORIAN
METHOD:PUBLISH
X-ORIGINAL-URL:https://gfwcampusministry.com
X-WR-CALDESC:Events for Greater Fort Wayne Campus Ministry
REFRESH-INTERVAL;VALUE=DURATION:PT1H
X-Robots-Tag:noindex
X-PUBLISHED-TTL:PT1H
BEGIN:VTIMEZONE
TZID:UTC
BEGIN:STANDARD
TZOFFSETFROM:+0000
TZOFFSETTO:+0000
TZNAME:UTC
DTSTART:20250101T000000
END:STANDARD
END:VTIMEZONE
BEGIN:VEVENT
DTSTART;TZID=UTC:20250411T190000
DTEND;TZID=UTC:20250411T210000
DTSTAMP:20260422T223200
CREATED:20250318T191720Z
LAST-MODIFIED:20250318T191720Z
UID:1453-1744398000-1744405200@gfwcampusministry.com
SUMMARY:CM Talent Showcase
DESCRIPTION:An incredible night of only the best in local talent from your CM fam!  A $5 suggested donation gets you in the door\, then you can vote for your favorite act with your dollars. All proceeds go towards our summer mission trip to Jamaica!
URL:https://gfwcampusministry.com/event/cm-talent-showcase/
LOCATION:PFW – Neff 101\, 2101E. Coliseum Blvd.\, Fort Wayne\, IN\, 46805\, United States
CATEGORIES:Special Events
ATTACH;FMTTYPE=image/jpeg:https://gfwcampusministry.com/wp-content/uploads/2020/12/cm-topic.jpg
END:VEVENT
BEGIN:VEVENT
DTSTART;TZID=UTC:20250914T103000
DTEND;TZID=UTC:20250914T120000
DTSTAMP:20260422T223200
CREATED:20250911T140002Z
LAST-MODIFIED:20250911T140135Z
UID:1596-1757845800-1757851200@gfwcampusministry.com
SUMMARY:CM Church Tour - Blackhawk Ministries
DESCRIPTION:Looking for a church home?! We believe that connecting to a local church is a vital part of walking with Christ. Each month\, we will visit a church together and enjoy a meal afterwards! You don’t want to miss this opportunity to find community! \n  \nSign up HERE
URL:https://gfwcampusministry.com/event/cm-church-tour-blackhawk-ministries/
LOCATION:Blackhawk Ministries\, 7400 E. State Blvd\, Fort Wayne\, IN\, 46815
CATEGORIES:Church Tour
END:VEVENT
BEGIN:VEVENT
DTSTART;TZID=UTC:20251012T100000
DTEND;TZID=UTC:20251012T120000
DTSTAMP:20260422T223200
CREATED:20250911T140414Z
LAST-MODIFIED:20250911T140414Z
UID:1601-1760263200-1760270400@gfwcampusministry.com
SUMMARY:CM Church Tour - Heartland Church
DESCRIPTION:Looking for a church home?! We believe that connecting to a local church is a vital part of walking with Christ. Each month\, we will visit a church together and enjoy a meal afterwards! You don’t want to miss this opportunity to find community! \n  \nSign up HERE
URL:https://gfwcampusministry.com/event/cm-church-tour-heartland-church/
LOCATION:Heartland Church\, 1025 Vance Ave\, Fort Wayne\, IN\, 46805
CATEGORIES:Church Tour
END:VEVENT
BEGIN:VEVENT
DTSTART;TZID=UTC:20251109T113000
DTEND;TZID=UTC:20251109T133000
DTSTAMP:20260422T223200
CREATED:20250911T140536Z
LAST-MODIFIED:20250911T140646Z
UID:1604-1762687800-1762695000@gfwcampusministry.com
SUMMARY:CM Church Tour - Pine Hills Church
DESCRIPTION:Looking for a church home?! We believe that connecting to a local church is a vital part of walking with Christ. Each month\, we will visit a church together and enjoy a meal afterwards! You don’t want to miss this opportunity to find community! \n  \nSign up HERE
URL:https://gfwcampusministry.com/event/cm-church-tour-pine-hills-church/
LOCATION:Pine Hills Church\, 4704 Carroll Rd\, Fort Wayne\, IN\, 46818
CATEGORIES:Church Tour
END:VEVENT
BEGIN:VEVENT
DTSTART;TZID=UTC:20251214T100000
DTEND;TZID=UTC:20251214T120000
DTSTAMP:20260422T223200
CREATED:20250911T140728Z
LAST-MODIFIED:20250911T140728Z
UID:1607-1765706400-1765713600@gfwcampusministry.com
SUMMARY:CM Church Tour - Grabill Missionary
DESCRIPTION:Looking for a church home?! We believe that connecting to a local church is a vital part of walking with Christ. Each month\, we will visit a church together and enjoy a meal afterwards! You don’t want to miss this opportunity to find community! \n  \nSign up HERE \n 
URL:https://gfwcampusministry.com/event/cm-church-tour-grabill-missionary/
LOCATION:Grabill Missionary Church\, 13635 State Street\, Grabill\, IN\, 46741
CATEGORIES:Church Tour
END:VEVENT
BEGIN:VEVENT
DTSTART;TZID=UTC:20260501T173000
DTEND;TZID=UTC:20260501T200000
DTSTAMP:20260422T223200
CREATED:20260109T171914Z
LAST-MODIFIED:20260407T161210Z
UID:1721-1777656600-1777665600@gfwcampusministry.com
SUMMARY:Spring Celebration
DESCRIPTION:Join us for our annual fundraising event\, celebrating the work the Lord is doing through Campus Ministry on the PFW Campus! \nDoors and silent auction open at 5:30 \nPlated Dinner and Program at 6:30 \nBuy tickets Here.  \nRegister to Bid and view the silent auction items here. \n 
URL:https://gfwcampusministry.com/event/spring-celebration-2/
LOCATION:International Ballroom- Walb Student Union
CATEGORIES:Special Events
END:VEVENT
END:VCALENDAR