BEGIN:VCALENDAR
VERSION:2.0
PRODID:-//Greater Fort Wayne Campus Ministry - ECPv6.0.9//NONSGML v1.0//EN
CALSCALE:GREGORIAN
METHOD:PUBLISH
X-WR-CALNAME:Greater Fort Wayne Campus Ministry
X-ORIGINAL-URL:https://gfwcampusministry.com
X-WR-CALDESC:Events for Greater Fort Wayne Campus Ministry
REFRESH-INTERVAL;VALUE=DURATION:PT1H
X-Robots-Tag:noindex
X-PUBLISHED-TTL:PT1H
BEGIN:VTIMEZONE
TZID:UTC
BEGIN:STANDARD
TZOFFSETFROM:+0000
TZOFFSETTO:+0000
TZNAME:UTC
DTSTART:20220101T000000
END:STANDARD
END:VTIMEZONE
BEGIN:VEVENT
DTSTART;TZID=UTC:20220116T100000
DTEND;TZID=UTC:20220116T120000
DTSTAMP:20260422T135409
CREATED:20220106T181507Z
LAST-MODIFIED:20220112T182357Z
UID:481-1642327200-1642334400@gfwcampusministry.com
SUMMARY:Church Tour- Impact Community Church
DESCRIPTION:Looking for a local church to attend and plug into? We want to help! Join us once a month to visit a new local church. Let us know if you’re coming\, we’ll save you a seat and provide a meal after service! \nA smaller community based church that is passionate about reaching their local community and building strong community within the church. \nSince we are providing lunch we need an accurate count on who is coming so please sign up HERE. 
URL:https://gfwcampusministry.com/event/church-tour-impact-community-church/
LOCATION:Impact Community Church\, 909 Main Street\, New Haven\, IN\, 46774
CATEGORIES:Church Tour,Special Events
END:VEVENT
BEGIN:VEVENT
DTSTART;TZID=UTC:20220119T203000
DTEND;TZID=UTC:20220119T223000
DTSTAMP:20260422T135409
CREATED:20220106T184402Z
LAST-MODIFIED:20220106T185207Z
UID:494-1642624200-1642631400@gfwcampusministry.com
SUMMARY:CML8R- Parkwood Church of God
DESCRIPTION:Every OTHER week we will have a specific place for you to build community and further conversations you may have had earlier in the night. There is a large gym for basketball\, volleyball\, or other sports\, as well as a quieter seating area to chill or play cards. Join us and make some new friends.
URL:https://gfwcampusministry.com/event/cml8r-parkwood-church-of-god/2022-01-19/
LOCATION:Parkwood Church of God\, 3320 Trier Rd\, Fort Wayne\, IN\, 46815
CATEGORIES:CML8R
END:VEVENT
END:VCALENDAR