BEGIN:VCALENDAR
VERSION:2.0
PRODID:-//Greater Fort Wayne Campus Ministry - ECPv6.0.9//NONSGML v1.0//EN
CALSCALE:GREGORIAN
METHOD:PUBLISH
X-ORIGINAL-URL:https://gfwcampusministry.com
X-WR-CALDESC:Events for Greater Fort Wayne Campus Ministry
REFRESH-INTERVAL;VALUE=DURATION:PT1H
X-Robots-Tag:noindex
X-PUBLISHED-TTL:PT1H
BEGIN:VTIMEZONE
TZID:UTC
BEGIN:STANDARD
TZOFFSETFROM:+0000
TZOFFSETTO:+0000
TZNAME:UTC
DTSTART:20220101T000000
END:STANDARD
END:VTIMEZONE
BEGIN:VEVENT
DTSTART;TZID=UTC:20220218T193000
DTEND;TZID=UTC:20220218T213000
DTSTAMP:20260422T224549
CREATED:20220224T215921Z
LAST-MODIFIED:20220224T215921Z
UID:552-1645212600-1645219800@gfwcampusministry.com
SUMMARY:Women's Group
DESCRIPTION:Student Leader and senior\, Mariah Kirtlan\, is leading this study through the book Captivating: Unveiling The Mystery Of A Woman’s Soul by John and Stasi Eldredge. \nIt will be at Mariah’s house\, let us know if you are interested and Mariah can give you the address.
URL:https://gfwcampusministry.com/event/womens-group-2/2022-02-18/
CATEGORIES:Small Group
END:VEVENT
END:VCALENDAR