BEGIN:VCALENDAR
VERSION:2.0
PRODID:-//Greater Fort Wayne Campus Ministry - ECPv6.0.9//NONSGML v1.0//EN
CALSCALE:GREGORIAN
METHOD:PUBLISH
X-WR-CALNAME:Greater Fort Wayne Campus Ministry
X-ORIGINAL-URL:https://gfwcampusministry.com
X-WR-CALDESC:Events for Greater Fort Wayne Campus Ministry
REFRESH-INTERVAL;VALUE=DURATION:PT1H
X-Robots-Tag:noindex
X-PUBLISHED-TTL:PT1H
BEGIN:VTIMEZONE
TZID:UTC
BEGIN:STANDARD
TZOFFSETFROM:+0000
TZOFFSETTO:+0000
TZNAME:UTC
DTSTART:20220101T000000
END:STANDARD
END:VTIMEZONE
BEGIN:VEVENT
DTSTART;TZID=UTC:20220202T170000
DTEND;TZID=UTC:20220202T180000
DTSTAMP:20260422T222459
CREATED:20220106T190733Z
LAST-MODIFIED:20220106T190733Z
UID:518-1643821200-1643824800@gfwcampusministry.com
SUMMARY:Men's Small Group
DESCRIPTION:Join us for a study of scripture and fellowship with some good dudes. We will meet on Wednesday Evenings at 5pm in the CM Lounge\, WU235. \nThis semester we are working through the book of Acts.
URL:https://gfwcampusministry.com/event/mens-small-group/2022-02-02/
CATEGORIES:Small Group
END:VEVENT
END:VCALENDAR