BEGIN:VCALENDAR
VERSION:2.0
PRODID:-//Greater Fort Wayne Campus Ministry - ECPv6.0.9//NONSGML v1.0//EN
CALSCALE:GREGORIAN
METHOD:PUBLISH
X-WR-CALNAME:Greater Fort Wayne Campus Ministry
X-ORIGINAL-URL:https://gfwcampusministry.com
X-WR-CALDESC:Events for Greater Fort Wayne Campus Ministry
REFRESH-INTERVAL;VALUE=DURATION:PT1H
X-Robots-Tag:noindex
X-PUBLISHED-TTL:PT1H
BEGIN:VTIMEZONE
TZID:UTC
BEGIN:STANDARD
TZOFFSETFROM:+0000
TZOFFSETTO:+0000
TZNAME:UTC
DTSTART:20240101T000000
END:STANDARD
END:VTIMEZONE
BEGIN:VEVENT
DTSTART;TZID=UTC:20241009T114500
DTEND;TZID=UTC:20241009T131500
DTSTAMP:20260421T051316
CREATED:20240823T161000Z
LAST-MODIFIED:20240823T161000Z
UID:1149-1728474300-1728479700@gfwcampusministry.com
SUMMARY:Women's Small Group - Gospel of Luke
DESCRIPTION:
URL:https://gfwcampusministry.com/event/womens-small-group-gospel-of-luke/2024-10-09/
LOCATION:PFW Main Campus- WU G-08
CATEGORIES:Small Group
END:VEVENT
BEGIN:VEVENT
DTSTART;TZID=UTC:20241009T114500
DTEND;TZID=UTC:20241009T131500
DTSTAMP:20260421T051316
CREATED:20240823T162243Z
LAST-MODIFIED:20240830T174250Z
UID:1233-1728474300-1728479700@gfwcampusministry.com
SUMMARY:Fresh-Men's Group
DESCRIPTION:Chase is leading this group designed specifically for Freshmen or new guys on campus. We will talk about what it truly means to be a Man of God and how we are to live out God’s calling for us. Bring your lunch and join us on Wednesdays. For more information\, reach out to Chase directly: chase@gfwcampusministry.com
URL:https://gfwcampusministry.com/event/fresh-mens-group/2024-10-09/
LOCATION:PFW Main Campus – WU G-21\, 2101 E. Coliseum Blvd.\, Fort Wayne\, IN\, 46805
CATEGORIES:Small Group
ATTACH;FMTTYPE=image/jpeg:https://gfwcampusministry.com/wp-content/uploads/2024/08/fresh-men.jpg
END:VEVENT
BEGIN:VEVENT
DTSTART;TZID=UTC:20241016T093000
DTEND;TZID=UTC:20241016T110000
DTSTAMP:20260421T051316
CREATED:20240826T181859Z
LAST-MODIFIED:20240826T181859Z
UID:1214-1729071000-1729076400@gfwcampusministry.com
SUMMARY:Women's Small Group
DESCRIPTION:Join Halle as she leads the gospel of Mark. Bring your bible and a notebook!
URL:https://gfwcampusministry.com/event/womens-small-group-2/2024-10-16/
LOCATION:LB 275
CATEGORIES:Small Group
ATTACH;FMTTYPE=image/jpeg:https://gfwcampusministry.com/wp-content/uploads/2024/08/HALLE.jpg
END:VEVENT
BEGIN:VEVENT
DTSTART;TZID=UTC:20241016T114500
DTEND;TZID=UTC:20241016T131500
DTSTAMP:20260421T051316
CREATED:20240823T161000Z
LAST-MODIFIED:20240823T161518Z
UID:1150-1729079100-1729084500@gfwcampusministry.com
SUMMARY:Women's Small Group - Gospel of Luke
DESCRIPTION:
URL:https://gfwcampusministry.com/event/womens-small-group-gospel-of-luke-2024-10-16/
LOCATION:PFW – LA16\, 2101 E. Coliseum Blvd.\, Fort Wayne\, IN\, 46805
CATEGORIES:Small Group
END:VEVENT
BEGIN:VEVENT
DTSTART;TZID=UTC:20241016T114500
DTEND;TZID=UTC:20241016T131500
DTSTAMP:20260421T051316
CREATED:20240823T162243Z
LAST-MODIFIED:20240830T174406Z
UID:1166-1729079100-1729084500@gfwcampusministry.com
SUMMARY:Fresh-Men's Group
DESCRIPTION:Chase is leading this group designed specifically for Freshmen or new guys on campus. We will talk about what it truly means to be a Man of God and how we are to live out God’s calling for us. Bring your lunch and join us on Wednesdays. For more information\, reach out to Chase directly: chase@gfwcampusministry.com
URL:https://gfwcampusministry.com/event/fresh-mens-group-2024-10-16/
LOCATION:PFW LA14\, 2101 E. Coliseum Blvd.\, Fort Wayne\, IN\, 46805
CATEGORIES:Small Group
ATTACH;FMTTYPE=image/jpeg:https://gfwcampusministry.com/wp-content/uploads/2024/08/fresh-men.jpg
END:VEVENT
BEGIN:VEVENT
DTSTART;TZID=UTC:20241023T093000
DTEND;TZID=UTC:20241023T110000
DTSTAMP:20260421T051316
CREATED:20240826T181859Z
LAST-MODIFIED:20240826T181859Z
UID:1215-1729675800-1729681200@gfwcampusministry.com
SUMMARY:Women's Small Group
DESCRIPTION:Join Halle as she leads the gospel of Mark. Bring your bible and a notebook!
URL:https://gfwcampusministry.com/event/womens-small-group-2/2024-10-23/
LOCATION:LB 275
CATEGORIES:Small Group
ATTACH;FMTTYPE=image/jpeg:https://gfwcampusministry.com/wp-content/uploads/2024/08/HALLE.jpg
END:VEVENT
BEGIN:VEVENT
DTSTART;TZID=UTC:20241023T114500
DTEND;TZID=UTC:20241023T131500
DTSTAMP:20260421T051316
CREATED:20240823T161000Z
LAST-MODIFIED:20240823T161000Z
UID:1151-1729683900-1729689300@gfwcampusministry.com
SUMMARY:Women's Small Group - Gospel of Luke
DESCRIPTION:
URL:https://gfwcampusministry.com/event/womens-small-group-gospel-of-luke/2024-10-23/
LOCATION:PFW Main Campus- WU G-08
CATEGORIES:Small Group
END:VEVENT
BEGIN:VEVENT
DTSTART;TZID=UTC:20241023T114500
DTEND;TZID=UTC:20241023T131500
DTSTAMP:20260421T051316
CREATED:20240823T162243Z
LAST-MODIFIED:20240830T174250Z
UID:1234-1729683900-1729689300@gfwcampusministry.com
SUMMARY:Fresh-Men's Group
DESCRIPTION:Chase is leading this group designed specifically for Freshmen or new guys on campus. We will talk about what it truly means to be a Man of God and how we are to live out God’s calling for us. Bring your lunch and join us on Wednesdays. For more information\, reach out to Chase directly: chase@gfwcampusministry.com
URL:https://gfwcampusministry.com/event/fresh-mens-group/2024-10-23/
LOCATION:PFW Main Campus – WU G-21\, 2101 E. Coliseum Blvd.\, Fort Wayne\, IN\, 46805
CATEGORIES:Small Group
ATTACH;FMTTYPE=image/jpeg:https://gfwcampusministry.com/wp-content/uploads/2024/08/fresh-men.jpg
END:VEVENT
BEGIN:VEVENT
DTSTART;TZID=UTC:20241030T093000
DTEND;TZID=UTC:20241030T110000
DTSTAMP:20260421T051316
CREATED:20240826T181859Z
LAST-MODIFIED:20240826T181859Z
UID:1216-1730280600-1730286000@gfwcampusministry.com
SUMMARY:Women's Small Group
DESCRIPTION:Join Halle as she leads the gospel of Mark. Bring your bible and a notebook!
URL:https://gfwcampusministry.com/event/womens-small-group-2/2024-10-30/
LOCATION:LB 275
CATEGORIES:Small Group
ATTACH;FMTTYPE=image/jpeg:https://gfwcampusministry.com/wp-content/uploads/2024/08/HALLE.jpg
END:VEVENT
BEGIN:VEVENT
DTSTART;TZID=UTC:20241030T114500
DTEND;TZID=UTC:20241030T131500
DTSTAMP:20260421T051316
CREATED:20240823T161000Z
LAST-MODIFIED:20240823T161000Z
UID:1152-1730288700-1730294100@gfwcampusministry.com
SUMMARY:Women's Small Group - Gospel of Luke
DESCRIPTION:
URL:https://gfwcampusministry.com/event/womens-small-group-gospel-of-luke/2024-10-30/
LOCATION:PFW Main Campus- WU G-08
CATEGORIES:Small Group
END:VEVENT
BEGIN:VEVENT
DTSTART;TZID=UTC:20241030T114500
DTEND;TZID=UTC:20241030T131500
DTSTAMP:20260421T051316
CREATED:20240823T162243Z
LAST-MODIFIED:20240830T174250Z
UID:1235-1730288700-1730294100@gfwcampusministry.com
SUMMARY:Fresh-Men's Group
DESCRIPTION:Chase is leading this group designed specifically for Freshmen or new guys on campus. We will talk about what it truly means to be a Man of God and how we are to live out God’s calling for us. Bring your lunch and join us on Wednesdays. For more information\, reach out to Chase directly: chase@gfwcampusministry.com
URL:https://gfwcampusministry.com/event/fresh-mens-group/2024-10-30/
LOCATION:PFW Main Campus – WU G-21\, 2101 E. Coliseum Blvd.\, Fort Wayne\, IN\, 46805
CATEGORIES:Small Group
ATTACH;FMTTYPE=image/jpeg:https://gfwcampusministry.com/wp-content/uploads/2024/08/fresh-men.jpg
END:VEVENT
BEGIN:VEVENT
DTSTART;TZID=UTC:20241106T093000
DTEND;TZID=UTC:20241106T110000
DTSTAMP:20260421T051316
CREATED:20240826T181859Z
LAST-MODIFIED:20240826T181859Z
UID:1217-1730885400-1730890800@gfwcampusministry.com
SUMMARY:Women's Small Group
DESCRIPTION:Join Halle as she leads the gospel of Mark. Bring your bible and a notebook!
URL:https://gfwcampusministry.com/event/womens-small-group-2/2024-11-06/
LOCATION:LB 275
CATEGORIES:Small Group
ATTACH;FMTTYPE=image/jpeg:https://gfwcampusministry.com/wp-content/uploads/2024/08/HALLE.jpg
END:VEVENT
BEGIN:VEVENT
DTSTART;TZID=UTC:20241106T114500
DTEND;TZID=UTC:20241106T131500
DTSTAMP:20260421T051316
CREATED:20240823T161000Z
LAST-MODIFIED:20240823T161000Z
UID:1153-1730893500-1730898900@gfwcampusministry.com
SUMMARY:Women's Small Group - Gospel of Luke
DESCRIPTION:
URL:https://gfwcampusministry.com/event/womens-small-group-gospel-of-luke/2024-11-06/
LOCATION:PFW Main Campus- WU G-08
CATEGORIES:Small Group
END:VEVENT
BEGIN:VEVENT
DTSTART;TZID=UTC:20241106T114500
DTEND;TZID=UTC:20241106T131500
DTSTAMP:20260421T051316
CREATED:20240823T162243Z
LAST-MODIFIED:20240830T174250Z
UID:1236-1730893500-1730898900@gfwcampusministry.com
SUMMARY:Fresh-Men's Group
DESCRIPTION:Chase is leading this group designed specifically for Freshmen or new guys on campus. We will talk about what it truly means to be a Man of God and how we are to live out God’s calling for us. Bring your lunch and join us on Wednesdays. For more information\, reach out to Chase directly: chase@gfwcampusministry.com
URL:https://gfwcampusministry.com/event/fresh-mens-group/2024-11-06/
LOCATION:PFW Main Campus – WU G-21\, 2101 E. Coliseum Blvd.\, Fort Wayne\, IN\, 46805
CATEGORIES:Small Group
ATTACH;FMTTYPE=image/jpeg:https://gfwcampusministry.com/wp-content/uploads/2024/08/fresh-men.jpg
END:VEVENT
BEGIN:VEVENT
DTSTART;TZID=UTC:20241113T093000
DTEND;TZID=UTC:20241113T110000
DTSTAMP:20260421T051316
CREATED:20240826T181859Z
LAST-MODIFIED:20240826T181859Z
UID:1218-1731490200-1731495600@gfwcampusministry.com
SUMMARY:Women's Small Group
DESCRIPTION:Join Halle as she leads the gospel of Mark. Bring your bible and a notebook!
URL:https://gfwcampusministry.com/event/womens-small-group-2/2024-11-13/
LOCATION:LB 275
CATEGORIES:Small Group
ATTACH;FMTTYPE=image/jpeg:https://gfwcampusministry.com/wp-content/uploads/2024/08/HALLE.jpg
END:VEVENT
BEGIN:VEVENT
DTSTART;TZID=UTC:20241113T114500
DTEND;TZID=UTC:20241113T131500
DTSTAMP:20260421T051316
CREATED:20240823T161000Z
LAST-MODIFIED:20240823T161000Z
UID:1154-1731498300-1731503700@gfwcampusministry.com
SUMMARY:Women's Small Group - Gospel of Luke
DESCRIPTION:
URL:https://gfwcampusministry.com/event/womens-small-group-gospel-of-luke/2024-11-13/
LOCATION:PFW Main Campus- WU G-08
CATEGORIES:Small Group
END:VEVENT
BEGIN:VEVENT
DTSTART;TZID=UTC:20241113T114500
DTEND;TZID=UTC:20241113T131500
DTSTAMP:20260421T051316
CREATED:20240823T162243Z
LAST-MODIFIED:20240830T174250Z
UID:1237-1731498300-1731503700@gfwcampusministry.com
SUMMARY:Fresh-Men's Group
DESCRIPTION:Chase is leading this group designed specifically for Freshmen or new guys on campus. We will talk about what it truly means to be a Man of God and how we are to live out God’s calling for us. Bring your lunch and join us on Wednesdays. For more information\, reach out to Chase directly: chase@gfwcampusministry.com
URL:https://gfwcampusministry.com/event/fresh-mens-group/2024-11-13/
LOCATION:PFW Main Campus – WU G-21\, 2101 E. Coliseum Blvd.\, Fort Wayne\, IN\, 46805
CATEGORIES:Small Group
ATTACH;FMTTYPE=image/jpeg:https://gfwcampusministry.com/wp-content/uploads/2024/08/fresh-men.jpg
END:VEVENT
BEGIN:VEVENT
DTSTART;TZID=UTC:20241120T093000
DTEND;TZID=UTC:20241120T110000
DTSTAMP:20260421T051316
CREATED:20240826T181859Z
LAST-MODIFIED:20240826T181859Z
UID:1219-1732095000-1732100400@gfwcampusministry.com
SUMMARY:Women's Small Group
DESCRIPTION:Join Halle as she leads the gospel of Mark. Bring your bible and a notebook!
URL:https://gfwcampusministry.com/event/womens-small-group-2/2024-11-20/
LOCATION:LB 275
CATEGORIES:Small Group
ATTACH;FMTTYPE=image/jpeg:https://gfwcampusministry.com/wp-content/uploads/2024/08/HALLE.jpg
END:VEVENT
BEGIN:VEVENT
DTSTART;TZID=UTC:20241120T114500
DTEND;TZID=UTC:20241120T131500
DTSTAMP:20260421T051316
CREATED:20240823T161000Z
LAST-MODIFIED:20240823T161000Z
UID:1155-1732103100-1732108500@gfwcampusministry.com
SUMMARY:Women's Small Group - Gospel of Luke
DESCRIPTION:
URL:https://gfwcampusministry.com/event/womens-small-group-gospel-of-luke/2024-11-20/
LOCATION:PFW Main Campus- WU G-08
CATEGORIES:Small Group
END:VEVENT
BEGIN:VEVENT
DTSTART;TZID=UTC:20241120T114500
DTEND;TZID=UTC:20241120T131500
DTSTAMP:20260421T051316
CREATED:20240823T162243Z
LAST-MODIFIED:20240830T174251Z
UID:1238-1732103100-1732108500@gfwcampusministry.com
SUMMARY:Fresh-Men's Group
DESCRIPTION:Chase is leading this group designed specifically for Freshmen or new guys on campus. We will talk about what it truly means to be a Man of God and how we are to live out God’s calling for us. Bring your lunch and join us on Wednesdays. For more information\, reach out to Chase directly: chase@gfwcampusministry.com
URL:https://gfwcampusministry.com/event/fresh-mens-group/2024-11-20/
LOCATION:PFW Main Campus – WU G-21\, 2101 E. Coliseum Blvd.\, Fort Wayne\, IN\, 46805
CATEGORIES:Small Group
ATTACH;FMTTYPE=image/jpeg:https://gfwcampusministry.com/wp-content/uploads/2024/08/fresh-men.jpg
END:VEVENT
BEGIN:VEVENT
DTSTART;TZID=UTC:20241127T093000
DTEND;TZID=UTC:20241127T110000
DTSTAMP:20260421T051316
CREATED:20240826T181859Z
LAST-MODIFIED:20240826T181859Z
UID:1220-1732699800-1732705200@gfwcampusministry.com
SUMMARY:Women's Small Group
DESCRIPTION:Join Halle as she leads the gospel of Mark. Bring your bible and a notebook!
URL:https://gfwcampusministry.com/event/womens-small-group-2/2024-11-27/
LOCATION:LB 275
CATEGORIES:Small Group
ATTACH;FMTTYPE=image/jpeg:https://gfwcampusministry.com/wp-content/uploads/2024/08/HALLE.jpg
END:VEVENT
BEGIN:VEVENT
DTSTART;TZID=UTC:20241127T114500
DTEND;TZID=UTC:20241127T131500
DTSTAMP:20260421T051316
CREATED:20240823T161000Z
LAST-MODIFIED:20240823T161000Z
UID:1156-1732707900-1732713300@gfwcampusministry.com
SUMMARY:Women's Small Group - Gospel of Luke
DESCRIPTION:
URL:https://gfwcampusministry.com/event/womens-small-group-gospel-of-luke/2024-11-27/
LOCATION:PFW Main Campus- WU G-08
CATEGORIES:Small Group
END:VEVENT
BEGIN:VEVENT
DTSTART;TZID=UTC:20241127T114500
DTEND;TZID=UTC:20241127T131500
DTSTAMP:20260421T051316
CREATED:20240823T162243Z
LAST-MODIFIED:20240830T174251Z
UID:1239-1732707900-1732713300@gfwcampusministry.com
SUMMARY:Fresh-Men's Group
DESCRIPTION:Chase is leading this group designed specifically for Freshmen or new guys on campus. We will talk about what it truly means to be a Man of God and how we are to live out God’s calling for us. Bring your lunch and join us on Wednesdays. For more information\, reach out to Chase directly: chase@gfwcampusministry.com
URL:https://gfwcampusministry.com/event/fresh-mens-group/2024-11-27/
LOCATION:PFW Main Campus – WU G-21\, 2101 E. Coliseum Blvd.\, Fort Wayne\, IN\, 46805
CATEGORIES:Small Group
ATTACH;FMTTYPE=image/jpeg:https://gfwcampusministry.com/wp-content/uploads/2024/08/fresh-men.jpg
END:VEVENT
BEGIN:VEVENT
DTSTART;TZID=UTC:20241204T093000
DTEND;TZID=UTC:20241204T110000
DTSTAMP:20260421T051316
CREATED:20240826T181859Z
LAST-MODIFIED:20240826T181859Z
UID:1221-1733304600-1733310000@gfwcampusministry.com
SUMMARY:Women's Small Group
DESCRIPTION:Join Halle as she leads the gospel of Mark. Bring your bible and a notebook!
URL:https://gfwcampusministry.com/event/womens-small-group-2/2024-12-04/
LOCATION:LB 275
CATEGORIES:Small Group
ATTACH;FMTTYPE=image/jpeg:https://gfwcampusministry.com/wp-content/uploads/2024/08/HALLE.jpg
END:VEVENT
BEGIN:VEVENT
DTSTART;TZID=UTC:20241204T114500
DTEND;TZID=UTC:20241204T131500
DTSTAMP:20260421T051316
CREATED:20240823T161000Z
LAST-MODIFIED:20240823T161652Z
UID:1157-1733312700-1733318100@gfwcampusministry.com
SUMMARY:Women's Small Group - Gospel of Luke
DESCRIPTION:
URL:https://gfwcampusministry.com/event/womens-small-group-gospel-of-luke-2024-12-04/
LOCATION:PFW – LA16\, 2101 E. Coliseum Blvd.\, Fort Wayne\, IN\, 46805
CATEGORIES:Small Group
END:VEVENT
BEGIN:VEVENT
DTSTART;TZID=UTC:20241204T114500
DTEND;TZID=UTC:20241204T131500
DTSTAMP:20260421T051316
CREATED:20240823T162243Z
LAST-MODIFIED:20240830T174356Z
UID:1173-1733312700-1733318100@gfwcampusministry.com
SUMMARY:Fresh-Men's Group
DESCRIPTION:Chase is leading this group designed specifically for Freshmen or new guys on campus. We will talk about what it truly means to be a Man of God and how we are to live out God’s calling for us. Bring your lunch and join us on Wednesdays. For more information\, reach out to Chase directly: chase@gfwcampusministry.com
URL:https://gfwcampusministry.com/event/fresh-mens-group-2024-12-04/
LOCATION:PFW LA14\, 2101 E. Coliseum Blvd.\, Fort Wayne\, IN\, 46805
CATEGORIES:Small Group
ATTACH;FMTTYPE=image/jpeg:https://gfwcampusministry.com/wp-content/uploads/2024/08/fresh-men.jpg
END:VEVENT
BEGIN:VEVENT
DTSTART;TZID=UTC:20241211T114500
DTEND;TZID=UTC:20241211T131500
DTSTAMP:20260421T051316
CREATED:20240823T162243Z
LAST-MODIFIED:20240830T174251Z
UID:1240-1733917500-1733922900@gfwcampusministry.com
SUMMARY:Fresh-Men's Group
DESCRIPTION:Chase is leading this group designed specifically for Freshmen or new guys on campus. We will talk about what it truly means to be a Man of God and how we are to live out God’s calling for us. Bring your lunch and join us on Wednesdays. For more information\, reach out to Chase directly: chase@gfwcampusministry.com
URL:https://gfwcampusministry.com/event/fresh-mens-group/2024-12-11/
LOCATION:PFW Main Campus – WU G-21\, 2101 E. Coliseum Blvd.\, Fort Wayne\, IN\, 46805
CATEGORIES:Small Group
ATTACH;FMTTYPE=image/jpeg:https://gfwcampusministry.com/wp-content/uploads/2024/08/fresh-men.jpg
END:VEVENT
BEGIN:VEVENT
DTSTART;TZID=UTC:20250122T120000
DTEND;TZID=UTC:20250122T130000
DTSTAMP:20260421T051316
CREATED:20250110T171441Z
LAST-MODIFIED:20250207T151110Z
UID:1314-1737547200-1737550800@gfwcampusministry.com
SUMMARY:Fresh-Men's Group - "Play the Man" and Inductive Bible Study
DESCRIPTION:We will talk about what it truly means to be a Man of God and how we are to live out God’s calling for us. Bring your lunch and join us on Wednesdays. For more information\, reach out to Chase directly: chase@gfwcampusministry.com.
URL:https://gfwcampusministry.com/event/fresh-mens-group-2/2025-01-22/
LOCATION:PFW Main Campus – WU G-21\, 2101 E. Coliseum Blvd.\, Fort Wayne\, IN\, 46805
CATEGORIES:Small Group
ATTACH;FMTTYPE=image/jpeg:https://gfwcampusministry.com/wp-content/uploads/2024/08/fresh-men.jpg
END:VEVENT
BEGIN:VEVENT
DTSTART;TZID=UTC:20250122T120000
DTEND;TZID=UTC:20250122T130000
DTSTAMP:20260421T051316
CREATED:20250110T172535Z
LAST-MODIFIED:20250110T172733Z
UID:1356-1737547200-1737550800@gfwcampusministry.com
SUMMARY:Women's Small Group - Ruthless Elimination of Hurry
DESCRIPTION:Join Kelley as she explores how busyness and hurry can cause spiritual harm\, and how to ruthlessly eliminate it from your life.
URL:https://gfwcampusministry.com/event/womens-small-group-ruthless-elimination-of-hurry/
LOCATION:PFW Main Campus- WU G-08
CATEGORIES:Small Group
END:VEVENT
BEGIN:VEVENT
DTSTART;TZID=UTC:20250129T120000
DTEND;TZID=UTC:20250129T130000
DTSTAMP:20260421T051316
CREATED:20250110T171441Z
LAST-MODIFIED:20250110T171441Z
UID:1394-1738152000-1738155600@gfwcampusministry.com
SUMMARY:Fresh-Men's Group - "Play the Man" and Inductive Bible Study
DESCRIPTION:We will talk about what it truly means to be a Man of God and how we are to live out God’s calling for us. Bring your lunch and join us on Wednesdays. For more information\, reach out to Chase directly: chase@gfwcampusministry.com.
URL:https://gfwcampusministry.com/event/fresh-mens-group-2/2025-01-29/
LOCATION:PFW Main Campus – WU G-21\, 2101 E. Coliseum Blvd.\, Fort Wayne\, IN\, 46805
CATEGORIES:Small Group
ATTACH;FMTTYPE=image/jpeg:https://gfwcampusministry.com/wp-content/uploads/2024/08/fresh-men.jpg
END:VEVENT
END:VCALENDAR