BEGIN:VCALENDAR
VERSION:2.0
PRODID:-//Greater Fort Wayne Campus Ministry - ECPv6.0.9//NONSGML v1.0//EN
CALSCALE:GREGORIAN
METHOD:PUBLISH
X-ORIGINAL-URL:https://gfwcampusministry.com
X-WR-CALDESC:Events for Greater Fort Wayne Campus Ministry
REFRESH-INTERVAL;VALUE=DURATION:PT1H
X-Robots-Tag:noindex
X-PUBLISHED-TTL:PT1H
BEGIN:VTIMEZONE
TZID:UTC
BEGIN:STANDARD
TZOFFSETFROM:+0000
TZOFFSETTO:+0000
TZNAME:UTC
DTSTART:20210101T000000
END:STANDARD
END:VTIMEZONE
BEGIN:VEVENT
DTSTART;TZID=UTC:20210831T180000
DTEND;TZID=UTC:20210831T210000
DTSTAMP:20260423T083307
CREATED:20210823T143630Z
LAST-MODIFIED:20210823T144056Z
UID:344-1630432800-1630443600@gfwcampusministry.com
SUMMARY:Back to School BBQ and Worship Night
DESCRIPTION:Revival Worship Church Event Flyer (4) (1) \nJoin us for hotdogs and drinks then a night of worship. You have the opportunity to meet student and staff from other Young Adult Ministries and Churches in the area.
URL:https://gfwcampusministry.com/event/back-to-school-bbq-and-worship-night/
LOCATION:PFW Student Housing Club House\, 4010 W Housing Dr\, Fort Wayne\, IN\, 46815
CATEGORIES:Service Events
END:VEVENT
END:VCALENDAR