BEGIN:VCALENDAR
VERSION:2.0
PRODID:-//Greater Fort Wayne Campus Ministry - ECPv6.0.9//NONSGML v1.0//EN
CALSCALE:GREGORIAN
METHOD:PUBLISH
X-ORIGINAL-URL:https://gfwcampusministry.com
X-WR-CALDESC:Events for Greater Fort Wayne Campus Ministry
REFRESH-INTERVAL;VALUE=DURATION:PT1H
X-Robots-Tag:noindex
X-PUBLISHED-TTL:PT1H
BEGIN:VTIMEZONE
TZID:UTC
BEGIN:STANDARD
TZOFFSETFROM:+0000
TZOFFSETTO:+0000
TZNAME:UTC
DTSTART:20210101T000000
END:STANDARD
END:VTIMEZONE
BEGIN:VEVENT
DTSTART;TZID=UTC:20220216T120000
DTEND;TZID=UTC:20220216T123000
DTSTAMP:20260421T100815
CREATED:20220224T220632Z
LAST-MODIFIED:20220224T220632Z
UID:566-1645012800-1645014600@gfwcampusministry.com
SUMMARY:Student Prayer Meeting
DESCRIPTION:Join us for a time of prayer on campus every week. Meet in the CM lounge.
URL:https://gfwcampusministry.com/event/student-prayer-meeting-2/2022-02-16/
LOCATION:University Interfaith Center-WU 235\, 2101E. Coliseum Blvd.\, Fort Wayne\, IN\, 46805\, United States
CATEGORIES:Prayer Meetings
END:VEVENT
BEGIN:VEVENT
DTSTART;TZID=UTC:20210921T120000
DTEND;TZID=UTC:20210921T130000
DTSTAMP:20260421T100815
CREATED:20210913T183601Z
LAST-MODIFIED:20210913T183601Z
UID:364-1632225600-1632229200@gfwcampusministry.com
SUMMARY:Student Prayer Meeting
DESCRIPTION:Whether you need prayer for a specific need or you simply want to join in with your fellow students in praying for each other\, we would love for you to join us. We will meet every week on Tuesdays at noon. No need to sign up\, just show up.
URL:https://gfwcampusministry.com/event/student-prayer-meeting/2021-09-21/
LOCATION:PFW LA 35A\, 2101E. Coliseum Blvd.\, Fort Wayne\, IN\, 46805\, United States
CATEGORIES:Prayer Meetings
END:VEVENT
END:VCALENDAR