BEGIN:VCALENDAR
VERSION:2.0
PRODID:-//Greater Fort Wayne Campus Ministry - ECPv6.0.9//NONSGML v1.0//EN
CALSCALE:GREGORIAN
METHOD:PUBLISH
X-ORIGINAL-URL:https://gfwcampusministry.com
X-WR-CALDESC:Events for Greater Fort Wayne Campus Ministry
REFRESH-INTERVAL;VALUE=DURATION:PT1H
X-Robots-Tag:noindex
X-PUBLISHED-TTL:PT1H
BEGIN:VTIMEZONE
TZID:UTC
BEGIN:STANDARD
TZOFFSETFROM:+0000
TZOFFSETTO:+0000
TZNAME:UTC
DTSTART:20240101T000000
END:STANDARD
END:VTIMEZONE
BEGIN:VEVENT
DTSTART;VALUE=DATE:20241025
DTEND;VALUE=DATE:20241028
DTSTAMP:20260419T212050
CREATED:20240823T153146Z
LAST-MODIFIED:20240906T154656Z
UID:1123-1729814400-1730073599@gfwcampusministry.com
SUMMARY:Fall Retreat
DESCRIPTION:Kick back and spend the weekend getting to know some of the best people on campus! More details and signup will be up soon. Click the link to sign up!
URL:https://gfwcampusministry.com/event/fall-retreat-3/
LOCATION:Camp Alexander Mack\, 1113 E Camp Mack Rd\, Milford\, IN\, 46542
ATTACH;FMTTYPE=image/jpeg:https://gfwcampusministry.com/wp-content/uploads/2024/08/FallRetreat23-e1725637681795.jpg
END:VEVENT
END:VCALENDAR