BEGIN:VCALENDAR
VERSION:2.0
PRODID:-//Greater Fort Wayne Campus Ministry - ECPv6.0.9//NONSGML v1.0//EN
CALSCALE:GREGORIAN
METHOD:PUBLISH
X-WR-CALNAME:Greater Fort Wayne Campus Ministry
X-ORIGINAL-URL:https://gfwcampusministry.com
X-WR-CALDESC:Events for Greater Fort Wayne Campus Ministry
REFRESH-INTERVAL;VALUE=DURATION:PT1H
X-Robots-Tag:noindex
X-PUBLISHED-TTL:PT1H
BEGIN:VTIMEZONE
TZID:UTC
BEGIN:STANDARD
TZOFFSETFROM:+0000
TZOFFSETTO:+0000
TZNAME:UTC
DTSTART:20240101T000000
END:STANDARD
END:VTIMEZONE
BEGIN:VEVENT
DTSTART;TZID=UTC:20240923T180000
DTEND;TZID=UTC:20240923T210000
DTSTAMP:20260419T225658
CREATED:20240823T163031Z
LAST-MODIFIED:20240823T163031Z
UID:1182-1727114400-1727125200@gfwcampusministry.com
SUMMARY:Co-Ed Small Group
DESCRIPTION:
URL:https://gfwcampusministry.com/event/co-ed-small-group-3/
LOCATION:PFW Main Campus – WU G-21\, 2101 E. Coliseum Blvd.\, Fort Wayne\, IN\, 46805
END:VEVENT
END:VCALENDAR