BEGIN:VCALENDAR
VERSION:2.0
PRODID:-//Greater Fort Wayne Campus Ministry - ECPv6.0.9//NONSGML v1.0//EN
CALSCALE:GREGORIAN
METHOD:PUBLISH
X-ORIGINAL-URL:https://gfwcampusministry.com
X-WR-CALDESC:Events for Greater Fort Wayne Campus Ministry
REFRESH-INTERVAL;VALUE=DURATION:PT1H
X-Robots-Tag:noindex
X-PUBLISHED-TTL:PT1H
BEGIN:VTIMEZONE
TZID:UTC
BEGIN:STANDARD
TZOFFSETFROM:+0000
TZOFFSETTO:+0000
TZNAME:UTC
DTSTART:20220101T000000
END:STANDARD
END:VTIMEZONE
BEGIN:VEVENT
DTSTART;TZID=UTC:20220916T063000
DTEND;TZID=UTC:20220918T130000
DTSTAMP:20260421T184540
CREATED:20220829T194507Z
LAST-MODIFIED:20220829T202516Z
UID:784-1663309800-1663506000@gfwcampusministry.com
SUMMARY:Fall Retreat- Stand Firm
DESCRIPTION:Join us for an incredible weekend away at Camp Alexander Mack in Milford\, IN. You will have time to rest and get to know some great new friends. Cost includes all programming fees\, two nights stay in heated cabins\, 3 meals on Saturday\, and breakfast on Sunday. Transportation is NOT included\, you will need to arrange your own. \nSign Up HERE! \n.         
URL:https://gfwcampusministry.com/event/fall-retreat-stand-firm/
LOCATION:Camp Alexander Mack\, 1113 E Camp Mack Rd\, Milford\, IN\, 46542
CATEGORIES:Retreats
ATTACH;FMTTYPE=image/jpeg:https://gfwcampusministry.com/wp-content/uploads/2022/07/on-a-rope-e1661804496729.jpeg
END:VEVENT
END:VCALENDAR