BEGIN:VCALENDAR
VERSION:2.0
PRODID:-//Greater Fort Wayne Campus Ministry - ECPv6.0.9//NONSGML v1.0//EN
CALSCALE:GREGORIAN
METHOD:PUBLISH
X-ORIGINAL-URL:https://gfwcampusministry.com
X-WR-CALDESC:Events for Greater Fort Wayne Campus Ministry
REFRESH-INTERVAL;VALUE=DURATION:PT1H
X-Robots-Tag:noindex
X-PUBLISHED-TTL:PT1H
BEGIN:VTIMEZONE
TZID:UTC
BEGIN:STANDARD
TZOFFSETFROM:+0000
TZOFFSETTO:+0000
TZNAME:UTC
DTSTART:20220101T000000
END:STANDARD
END:VTIMEZONE
BEGIN:VEVENT
DTSTART;VALUE=DATE:20220305
DTEND;VALUE=DATE:20220314
DTSTAMP:20260422T064317
CREATED:20220224T220254Z
LAST-MODIFIED:20220224T220254Z
UID:564-1646438400-1647215999@gfwcampusministry.com
SUMMARY:PFW Spring Break-No Programming
DESCRIPTION:Have a fun and safe week!
URL:https://gfwcampusministry.com/event/pfw-spring-break-no-programming/
CATEGORIES:Special Events
END:VEVENT
BEGIN:VEVENT
DTSTART;TZID=UTC:20220309T190000
DTEND;TZID=UTC:20220309T203000
DTSTAMP:20260422T064317
CREATED:20220105T211414Z
LAST-MODIFIED:20220106T164058Z
UID:418-1646852400-1646857800@gfwcampusministry.com
SUMMARY:No Conversations Tonight; Enjoy Spring Break!
DESCRIPTION:Our weekly\, discussion-based large group meeting. We’ll have snacks and great conversations!
URL:https://gfwcampusministry.com/event/conversations-2-2022-01-19-2022-03-09/
LOCATION:PFW Main Campus- WU222\, 2101 E Coliseum Blvd\, Fort Wayne\, IN\, 46805
CATEGORIES:Conversations
END:VEVENT
END:VCALENDAR