BEGIN:VCALENDAR
VERSION:2.0
PRODID:-//Greater Fort Wayne Campus Ministry - ECPv6.0.9//NONSGML v1.0//EN
CALSCALE:GREGORIAN
METHOD:PUBLISH
X-ORIGINAL-URL:https://gfwcampusministry.com
X-WR-CALDESC:Events for Greater Fort Wayne Campus Ministry
REFRESH-INTERVAL;VALUE=DURATION:PT1H
X-Robots-Tag:noindex
X-PUBLISHED-TTL:PT1H
BEGIN:VTIMEZONE
TZID:UTC
BEGIN:STANDARD
TZOFFSETFROM:+0000
TZOFFSETTO:+0000
TZNAME:UTC
DTSTART:20210101T000000
END:STANDARD
END:VTIMEZONE
BEGIN:VEVENT
DTSTART;TZID=UTC:20210929T070000
DTEND;TZID=UTC:20210929T203000
DTSTAMP:20260422T194848
CREATED:20210921T201618Z
LAST-MODIFIED:20210921T201924Z
UID:387-1632898800-1632947400@gfwcampusministry.com
SUMMARY:CM Harvest Hoedown
DESCRIPTION:Dress up in your flannel and boots and join us for some good clean fall fun! You will be able to make your own caramel apple\, paint a pumpkin\, drink some cider\, and learn a line dance. We will be outside in the Visual Arts Amphitheater behind Walb. Rain location will be our normal room of LA35A. Be sure to join remind and/or socail media for updates.
URL:https://gfwcampusministry.com/event/cm-harvest-hoedown/
LOCATION:PFW Visual Arts Amphitheater
CATEGORIES:Special Events
END:VEVENT
BEGIN:VEVENT
DTSTART;TZID=UTC:20210929T190000
DTEND;TZID=UTC:20210929T203000
DTSTAMP:20260422T194848
CREATED:20210707T164753Z
LAST-MODIFIED:20210921T202239Z
UID:196-1632942000-1632947400@gfwcampusministry.com
SUMMARY:Conversations
DESCRIPTION:Our weekly\, discussion-based large group meeting. We’ll have snacks and great conversations! \nThis week we are having a Special Event. Check the link for the CM Harvest Hoedown for more details.
URL:https://gfwcampusministry.com/event/conversations-2021-09-29/
LOCATION:PFW LA 35A\, 2101E. Coliseum Blvd.\, Fort Wayne\, IN\, 46805\, United States
CATEGORIES:Conversations
END:VEVENT
END:VCALENDAR